BEGIN:VCALENDAR
VERSION:2.0
PRODID:City of Bend Calendar Creator
METHOD:PUBLISH
BEGIN:VEVENT
DTSTAMP:20220909T114743
DTSTART:20220912T173000
DTEND:20220912T190000
SUMMARY:When Belonging “Works” – The Impact of Belonging at Work
DESCRIPTION:<p><b>When Belonging “Works” – The Impact of Belonging at Work<br></b><b>5:30 p.m.&nbsp;</b><i>Embrace Bend,</i> Zoom and in person, Obsidian Hall, OSU-Cascades #207, 1500 SW Chandler Ave, Bend</p><p>How can Bend make belonging a regular business practice? This event will include a video of impacted community members talking about moments of belonging at work and moments when they felt unsafe and/or alienated because of their identity. We will follow with a panel discussion of businesses who are starting the process of integrating belonging into their day-to-day work. The event will conclude with the introduction of a Safety and Inclusion Project for the Bend community. Link to register:&nbsp;<a href="https://www.eventbrite.com/e/when-belonging-works-the-impact-of-belonging-at-work-tickets-408278500987">When Belonging "Works" - The Impact of Belonging At Work Tickets, Mon, Sep 12, 2022 at 5:30 PM | Eventbrite</a></p>
X-ALT-DESC;FMTTYPE=text/html:<p><b>When Belonging “Works” – The Impact of Belonging at Work<br></b><b>5:30 p.m.&nbsp;</b><i>Embrace Bend,</i> Zoom and in person, Obsidian Hall, OSU-Cascades #207, 1500 SW Chandler Ave, Bend</p><p>How can Bend make belonging a regular business practice? This event will include a video of impacted community members talking about moments of belonging at work and moments when they felt unsafe and/or alienated because of their identity. We will follow with a panel discussion of businesses who are starting the process of integrating belonging into their day-to-day work. The event will conclude with the introduction of a Safety and Inclusion Project for the Bend community. Link to register:&nbsp;<a href="https://www.eventbrite.com/e/when-belonging-works-the-impact-of-belonging-at-work-tickets-408278500987">When Belonging "Works" - The Impact of Belonging At Work Tickets, Mon, Sep 12, 2022 at 5:30 PM | Eventbrite</a></p>
LOCATION:OSU Cascades\, 1500 SW Chandler Ave Bend\, Oregon 97702
CLASS:PUBLIC
END:VEVENT
END:VCALENDAR
