BEGIN:VCALENDAR
VERSION:2.0
PRODID:City of Bend Calendar Creator
METHOD:PUBLISH
BEGIN:VEVENT
DTSTAMP:20220909T113250
DTSTART:20220913T183000
DTEND:20220913T200000
SUMMARY:Peace Service
DESCRIPTION:<p><b>Peace Service<br></b><b>6:30 p.m.&nbsp;</b><i>The Interfaith Network of Central Oregon,</i><b><em>&nbsp;</em></b>Zoom and in person, Trinity Episcopal Church,&nbsp;469 NW Wall Street, Bend</p><p>The Interfaith Movement of Central Oregon (INCO) invites you to attend the annual Peace Service for Welcoming Week. There is no cost to attend. INCO is planning to have a live gathering this year and provide a Zoom access option for those wishing to attend virtually. INCO will have live music and speakers from varied faith organizations sharing messages of peace, inclusion, and weaving in the message of Welcoming Week—"Where We Belong.”&nbsp;&nbsp;</p><p><strong>Join Zoom Meeting:&nbsp;</strong><a href="https://us02web.zoom.us/j/83151395340?pwd=UVB2QjhXdEJZb1JnVWJ1YmxKVHk3Zz09" target="_blank">https://us02web.zoom.us/j/83151395340?pwd=UVB2QjhXdEJZb1JnVWJ1YmxKVHk3Zz09</a><br><strong>Meeting ID:</strong>&nbsp;831 5139 5340<br><strong>Passcode:</strong>&nbsp;Peace</p>
X-ALT-DESC;FMTTYPE=text/html:<p><b>Peace Service<br></b><b>6:30 p.m.&nbsp;</b><i>The Interfaith Network of Central Oregon,</i><b><em>&nbsp;</em></b>Zoom and in person, Trinity Episcopal Church,&nbsp;469 NW Wall Street, Bend</p><p>The Interfaith Movement of Central Oregon (INCO) invites you to attend the annual Peace Service for Welcoming Week. There is no cost to attend. INCO is planning to have a live gathering this year and provide a Zoom access option for those wishing to attend virtually. INCO will have live music and speakers from varied faith organizations sharing messages of peace, inclusion, and weaving in the message of Welcoming Week—"Where We Belong.”&nbsp;&nbsp;</p><p><strong>Join Zoom Meeting:&nbsp;</strong><a href="https://us02web.zoom.us/j/83151395340?pwd=UVB2QjhXdEJZb1JnVWJ1YmxKVHk3Zz09" target="_blank">https://us02web.zoom.us/j/83151395340?pwd=UVB2QjhXdEJZb1JnVWJ1YmxKVHk3Zz09</a><br><strong>Meeting ID:</strong>&nbsp;831 5139 5340<br><strong>Passcode:</strong>&nbsp;Peace</p>
LOCATION:Trinity Episcopal Church\, 469 NW Wall Street Bend\, Oregon 97701
CLASS:PUBLIC
END:VEVENT
END:VCALENDAR
