BEGIN:VCALENDAR
VERSION:2.0
PRODID:City of Bend Calendar Creator
METHOD:PUBLISH
BEGIN:VEVENT
DTSTAMP:20220909T115856
DTSTART:20220914T180000
DTEND:20220914T190000
SUMMARY:Restorative Community Circles for Bend - Session #3
DESCRIPTION:<p><b>Restorative Community Circles for Bend - Session #2<br></b><b>6 - 7 p.m.&nbsp;</b><i>Restorative Justice &amp; Equity</i>, Caldera High School, 60925 SE 15th Street, Bend<i>&nbsp;</i>&nbsp;&nbsp;</p><p>The Restorative Justice &amp; Equity Group invites the Black, Indigenous, Latinx, Asian, and People of Color (BILAPOC) community and friends to participate in a restorative healing circle on the topic of, “Belonging in Bend Begins with Us.” We will hold three healing circles for 12 participants and 20 observers in each session using a restorative circle process. Participants will explore what belonging is, how they have experienced and been impacted by belonging or not belonging, a time when they felt they were unfairly treated due to their ethnicity or color, and how to create and nurture a culture of belonging and inclusiveness in Bend.&nbsp;</p>
X-ALT-DESC;FMTTYPE=text/html:<p><b>Restorative Community Circles for Bend - Session #2<br></b><b>6 - 7 p.m.&nbsp;</b><i>Restorative Justice &amp; Equity</i>, Caldera High School, 60925 SE 15th Street, Bend<i>&nbsp;</i>&nbsp;&nbsp;</p><p>The Restorative Justice &amp; Equity Group invites the Black, Indigenous, Latinx, Asian, and People of Color (BILAPOC) community and friends to participate in a restorative healing circle on the topic of, “Belonging in Bend Begins with Us.” We will hold three healing circles for 12 participants and 20 observers in each session using a restorative circle process. Participants will explore what belonging is, how they have experienced and been impacted by belonging or not belonging, a time when they felt they were unfairly treated due to their ethnicity or color, and how to create and nurture a culture of belonging and inclusiveness in Bend.&nbsp;</p>
LOCATION:Caldera High School\, 60925 SE 15th Street Bend\, Oregon 97702
CLASS:PUBLIC
END:VEVENT
END:VCALENDAR
