BEGIN:VCALENDAR
VERSION:2.0
PRODID:City of Bend Calendar Creator
METHOD:PUBLISH
BEGIN:VEVENT
DTSTAMP:20220909T120203
DTSTART:20220914T163000
DTEND:20220914T183000
SUMMARY:Multicultural Art Exhibition
DESCRIPTION:<p><b>Multicultural Art Exhibition<br></b><b>4:30 – 6:30 p.m</b><i>. The Environmental Center</i>,<b>&nbsp;</b>16 NW Kansas Avenue, Bend&nbsp;&nbsp;</p><p>Join us at The Environmental Center in downtown Bend for a Multicultural Art Exhibit. Experience live poetry, music, and creative arts by local BILAPOC, LGBTQ+ artists. Attendees can also tour The Environmental Center’s Learning &amp; Demonstration Garden, and participate in educational activities offered in both Spanish and English. You will also get the opportunity to practice your creative skills during our live art demonstration. This year’s theme is Where We Belong. We invite community members who practice any of the various creative arts to participate. Spanish and ASL interpretation will be offered on-site."</p>
X-ALT-DESC;FMTTYPE=text/html:<p><b>Multicultural Art Exhibition<br></b><b>4:30 – 6:30 p.m</b><i>. The Environmental Center</i>,<b>&nbsp;</b>16 NW Kansas Avenue, Bend&nbsp;&nbsp;</p><p>Join us at The Environmental Center in downtown Bend for a Multicultural Art Exhibit. Experience live poetry, music, and creative arts by local BILAPOC, LGBTQ+ artists. Attendees can also tour The Environmental Center’s Learning &amp; Demonstration Garden, and participate in educational activities offered in both Spanish and English. You will also get the opportunity to practice your creative skills during our live art demonstration. This year’s theme is Where We Belong. We invite community members who practice any of the various creative arts to participate. Spanish and ASL interpretation will be offered on-site."</p>
LOCATION:The Environmental Center\, 16 NW Kansas Avenue Bend\, Oregon 97701
CLASS:PUBLIC
END:VEVENT
END:VCALENDAR
