BEGIN:VCALENDAR
VERSION:2.0
PRODID:City of Bend Calendar Creator
METHOD:PUBLISH
BEGIN:VEVENT
DTSTAMP:20220909T121017
DTSTART:20220916T110000
DTEND:20220916T120000
SUMMARY:Introduction to Fair Housing
DESCRIPTION:<p><b>Introduction to Fair Housing&nbsp;</b>&nbsp;<br><b>11 a.m. – 12 p.m.&nbsp;</b><i>Fair Housing Council of Oregon,&nbsp;</i>The Haven, 1001 SW Disk Dr. Suite #250, Bend, OR</p><p>During this&nbsp;<b>free</b>&nbsp;in-person presentation, the audience will learn about what Fair Housing Law is and when and to whom it applies. Through a quick review of some best practices and some red flags in housing market transactions (rent and/or purchase), people seeking housing and housing providers alike will be able to better understand their rights and their responsibilities. There will be ample opportunity for questions, and some time will be reserved to address most commonly inquired-about topics such as assistance animals and disparate impact.&nbsp;</p>
X-ALT-DESC;FMTTYPE=text/html:<p><b>Introduction to Fair Housing&nbsp;</b>&nbsp;<br><b>11 a.m. – 12 p.m.&nbsp;</b><i>Fair Housing Council of Oregon,&nbsp;</i>The Haven, 1001 SW Disk Dr. Suite #250, Bend, OR</p><p>During this&nbsp;<b>free</b>&nbsp;in-person presentation, the audience will learn about what Fair Housing Law is and when and to whom it applies. Through a quick review of some best practices and some red flags in housing market transactions (rent and/or purchase), people seeking housing and housing providers alike will be able to better understand their rights and their responsibilities. There will be ample opportunity for questions, and some time will be reserved to address most commonly inquired-about topics such as assistance animals and disparate impact.&nbsp;</p>
LOCATION:The Haven\, 1001 SW Disk Drive Ste #250 Bend\, Oregon 97702
CLASS:PUBLIC
END:VEVENT
END:VCALENDAR
