BEGIN:VCALENDAR
VERSION:2.0
PRODID:City of Bend Calendar Creator
METHOD:PUBLISH
BEGIN:VEVENT
DTSTAMP:20220909T123120
DTSTART:20220918T160000
DTEND:20220918T180000
SUMMARY:BIPOC Sunday Community Meal and Gathering
DESCRIPTION:<p><b>BIPOC Sunday Community Meal and Gathering &nbsp;</b>&nbsp;<br><b>4 - 6 p.m. ,&nbsp;</b><i>Nativity Lutheran Church,&nbsp;</i>60850 Brosterhous Road, Bend</p><p>A community meal is an occasion for gathering in order to share food and experiences with each other. Bend is a white city. As such, there are limited community spaces for Black, Indigenous, People of Color (BIPOC) individuals and families to gather, interact and share. As part of Bend's Welcoming Week and hopefully, every month after, Nativity Lutheran Church would like to host a Sunday community meal for BIPOC families and individuals to gather, break bread and be with each other in a safe and welcoming space.&nbsp;</p>
X-ALT-DESC;FMTTYPE=text/html:<p><b>BIPOC Sunday Community Meal and Gathering &nbsp;</b>&nbsp;<br><b>4 - 6 p.m. ,&nbsp;</b><i>Nativity Lutheran Church,&nbsp;</i>60850 Brosterhous Road, Bend</p><p>A community meal is an occasion for gathering in order to share food and experiences with each other. Bend is a white city. As such, there are limited community spaces for Black, Indigenous, People of Color (BIPOC) individuals and families to gather, interact and share. As part of Bend's Welcoming Week and hopefully, every month after, Nativity Lutheran Church would like to host a Sunday community meal for BIPOC families and individuals to gather, break bread and be with each other in a safe and welcoming space.&nbsp;</p>
LOCATION:Nativity Lutheran Church\, 60850 Brosterhous Road Bend\, Oregon 97702
CLASS:PUBLIC
END:VEVENT
END:VCALENDAR
