BEGIN:VCALENDAR
VERSION:2.0
PRODID:City of Bend Calendar Creator
METHOD:PUBLISH
BEGIN:VEVENT
DTSTAMP:20230215T111256
DTSTART:20230223T130000
DTEND:20230223T143000
SUMMARY:City of Bend Accessibility Advisory Committee Meeting
DESCRIPTION:<p><b>&nbsp;</b><b>Hybrid Meeting Notice:</b><b>&nbsp;</b></p><p>The <a href="https://www.bendoregon.gov/government/committees/accessibility-advisory-committee" target="_blank" id="City of Bend Accessibility Advisory Committee"><strong>City of Bend Accessibility Advisory Committee</strong></a>&nbsp;COBAAC will conduct its meetings through Zoom and in person at City Hall in Council Chambers and YouTube Live Streamed.</p><p><b>To Attend by Computer; </b><a href="https://bendoregon-gov.zoom.us/webinar/register/WN_L71UG4J4RWSpiKJo0Nf6mw" target="_blank" id="Pre-Register"><b>Pre-</b><b>Register</b></a><b>: </b>You will receive an email confirmation with a personal link/information to connect via computer or phone.</p><p><b>To Attend by Phone (No Pre-Registering Required):</b></p><ul>    <li><b>Dial Toll-Free:</b> 1-888-788-0099</li>    <li><b>Webinar ID:</b> &nbsp;843 4119 3278 #</li>    <li><b>Passcode:</b> 262222 (COBAAC)</li></ul><p><b>To Attend In-Person:</b> City Hall Council Chambers, 710 NW Wall St., Bend, OR. 97703, Thursday, February 23, 2023, from 1:00 PM to 2:30 PM.</p><p><b>YouTube Live Stream: </b><a href="https://youtube.com/live/9a3Mzpz3f8g?feature=share" target="_blank" id="COBAAC February 2023 Meeting"><b>COBAAC February 2023 Meeting</b></a></p><p><b>Technical Difficulties Connecting to this Meeting:</b> Call 541-410-9341&nbsp;</p><p><b>Phone Users’ Comments:</b> Toggle *9 to raise/lower hand, and *6 to mute/ unmute yourself. After you have spoken, please, lower your hand and mute.</p><p><b>Public Attendee Comments:</b> The host will enable the raise/lower hand and mute/unmute during the public comments section, then disable this ability. Comments are limited to 2 minutes.</p><h2>Accessible Meeting Information</h2><p>This meeting/event location is accessible. Sign language interpreter service, assistive listening devices, materials in an alternate format such as Braille, large print, electronic formats, or any other accommodations are available upon advance request. Please contact Cassandra Kehoe at <a href="mailto:&#99;&#107;&#101;&#104;&#111;&#101;&#64;&#98;&#101;&#110;&#100;&#111;&#114;&#101;&#103;&#111;&#110;&#46;&#103;&#111;&#118;"><b>ckehoe@bendoregon.gov</b></a>&nbsp;or call 541-693-2141 no later than two days before the event. Providing, at least, three days’ notice before the event will help ensure availability. Relay Users Dial 7-1-1.</p>
X-ALT-DESC;FMTTYPE=text/html:<p><b>&nbsp;</b><b>Hybrid Meeting Notice:</b><b>&nbsp;</b></p><p>The <a href="https://www.bendoregon.gov/government/committees/accessibility-advisory-committee" target="_blank" id="City of Bend Accessibility Advisory Committee"><strong>City of Bend Accessibility Advisory Committee</strong></a>&nbsp;COBAAC will conduct its meetings through Zoom and in person at City Hall in Council Chambers and YouTube Live Streamed.</p><p><b>To Attend by Computer; </b><a href="https://bendoregon-gov.zoom.us/webinar/register/WN_L71UG4J4RWSpiKJo0Nf6mw" target="_blank" id="Pre-Register"><b>Pre-</b><b>Register</b></a><b>: </b>You will receive an email confirmation with a personal link/information to connect via computer or phone.</p><p><b>To Attend by Phone (No Pre-Registering Required):</b></p><ul>    <li><b>Dial Toll-Free:</b> 1-888-788-0099</li>    <li><b>Webinar ID:</b> &nbsp;843 4119 3278 #</li>    <li><b>Passcode:</b> 262222 (COBAAC)</li></ul><p><b>To Attend In-Person:</b> City Hall Council Chambers, 710 NW Wall St., Bend, OR. 97703, Thursday, February 23, 2023, from 1:00 PM to 2:30 PM.</p><p><b>YouTube Live Stream: </b><a href="https://youtube.com/live/9a3Mzpz3f8g?feature=share" target="_blank" id="COBAAC February 2023 Meeting"><b>COBAAC February 2023 Meeting</b></a></p><p><b>Technical Difficulties Connecting to this Meeting:</b> Call 541-410-9341&nbsp;</p><p><b>Phone Users’ Comments:</b> Toggle *9 to raise/lower hand, and *6 to mute/ unmute yourself. After you have spoken, please, lower your hand and mute.</p><p><b>Public Attendee Comments:</b> The host will enable the raise/lower hand and mute/unmute during the public comments section, then disable this ability. Comments are limited to 2 minutes.</p><h2>Accessible Meeting Information</h2><p>This meeting/event location is accessible. Sign language interpreter service, assistive listening devices, materials in an alternate format such as Braille, large print, electronic formats, or any other accommodations are available upon advance request. Please contact Cassandra Kehoe at <a href="mailto:&#99;&#107;&#101;&#104;&#111;&#101;&#64;&#98;&#101;&#110;&#100;&#111;&#114;&#101;&#103;&#111;&#110;&#46;&#103;&#111;&#118;"><b>ckehoe@bendoregon.gov</b></a>&nbsp;or call 541-693-2141 no later than two days before the event. Providing, at least, three days’ notice before the event will help ensure availability. Relay Users Dial 7-1-1.</p>
LOCATION:Council Chambers (City Hall)\, 710 NW Wall St Bend\, Oregon 97703
CLASS:PUBLIC
END:VEVENT
END:VCALENDAR
