BEGIN:VCALENDAR
VERSION:2.0
PRODID:City of Bend Calendar Creator
METHOD:PUBLISH
BEGIN:VEVENT
DTSTAMP:20231211T164109
DTSTART:20231213T163000
DTEND:20231213T173000
SUMMARY:Human Rights & Equity Commission Regular Meeting, Alternate Date, Length of Meeting & Venue
DESCRIPTION:<h2>Hybrid Meeting Notice.</h2><p>The Bend Human Rights and Equity Commission will conduct its regular meeting through Zoom and in person in the Board Room at City Hall, 710 NW Wall Street, Bend, Oregon; on <b>Wednesday, December 13, 2023, regular meeting, alternate date, from 4:30 to 5:30 PM (1 Hour).</b></p><p><b><b>Please note the date, length of meeting (1 hour) &amp; venue change:</b> </b>This meeting is on 12/13/2023, from 4:30 to 5:30 PM, in the Board Room.</p><p><a href="https://bend.granicus.com/GeneratedAgendaViewer.php?view_id=17&amp;event_id=1023" target="_blank">HREC December 13th, 2023, Agenda</a></p><p>The agenda is found on the <a href="https://www.bendoregon.gov/government/committees/human-rights-and-equity-commission" target="_blank" id="Human Rights and Equity Commission">Human Rights and Equity Commission</a> webpage closer to the meeting date.</p><p><strong>To Attend by Computer, </strong><a href="https://bendoregon-gov.zoom.us/webinar/register/WN_PzbqIfszQb6n3G8pqSb1Xg" target="_blank" id="Pre-Register"><b>Pre-Register</b></a><strong>: </strong>You will receive an email confirmation with a personal link/information to connect via computer or phone.</p><p><strong>To </strong><strong>Attend</strong><strong> by Phone (No Pre-Registering Required):</strong></p><ul>    <li><strong>&nbsp;</strong><strong>Dial Toll-Free:</strong> 1-888-788-0099</li>    <li><strong>Webinar ID:</strong> 896 4025 7745 # #</li>    <li><strong>Passcode if prompted:</strong> 4732 (HREC)</li></ul><p><strong>Watch the</strong> <b><a href="https://youtube.com/live/Fkz-F32dF-c?feature=share" target="_blank">HREC December 13, 2023, regular meeting, live at 4:30 PM</a></b>.</p><p><strong>For additional information about this meeting:</strong>&nbsp;Please call the Accessibility and Equity Manager // HREC Liaison, Cassandra Kehoe at 541-693-2141 or email<b>&nbsp;<a href="mailto:ckehoe@bendoregon.gov" target="_blank"></a></b><a href="mailto:ckehoe@bendoregon.gov" target="_blank">ckehoe@bendoregon.gov</a>.</p><p><strong>Technical Difficulties Connecting to this Meeting:</strong> Call 541-410-9341.</p><p><b>Public Comment Section:</b></p><p>Phone Users and Zoom Attendee Comments: Toggle *(Star) nine to raise/ lower hand, and *(Star) six to mute/ unmute yourself. The host will enable the raise/ lower hand and mute/ unmute during the public comment sections only, then disable this ability/function. For further comments or additional input, about this meeting, please email the Accessibility and Equity Manager Cassandra Kehoe at&nbsp;<a href="mailto:ckehoe@bendoregon.gov?subject=ckehoe@bendoregon.gov" id="ckehoe@bendoregon.gov" title="ckehoe@bendoregon.gov">ckehoe@bendoregon.gov</a>.</p><h3>Accessible Meeting Notice Information</h3><p>This meeting/event location is accessible. Sign language interpreter service, assistive listening devices, materials in alternate formats such as Braille, large print, electronic formats, or any other accommodations are available upon advance request. Please contact the Accessibility and Equity Program at&nbsp;<a href="mailto:accessibility@bendoregon.gov?subject=accessibility@bendoregon.gov" title="accessibility@bendoregon.gov">accessibility@bendoregon.gov</a>&nbsp;or call 541-693-2198. Relay Users Dial 7-1-1. Providing, at least, 3-day notice prior to the event will help ensure availability.</p><p><strong><strong>Para solicitar copias en español de los documentas en esta página web o en un formato alternativo como Braille, letra grande, formatos electrónicos, etc.:&nbsp;</strong></strong>Por favor contacte al Director de Equidad e Inclusión, Andrés Portela&nbsp;<a href="mailto:aportela@bendoregon.gov?subject=aportela@bendoregon.gov" id="aportela@bendoregon.gov" title="aportela@bendoregon.gov">aportela@bendoregon.gov</a>&nbsp;o llame al 541-323-8563. Los usuarios de retransmisión marquen el 7-1-1.</p><p><strong><div></div></strong></p>
X-ALT-DESC;FMTTYPE=text/html:<h2>Hybrid Meeting Notice.</h2><p>The Bend Human Rights and Equity Commission will conduct its regular meeting through Zoom and in person in the Board Room at City Hall, 710 NW Wall Street, Bend, Oregon; on <b>Wednesday, December 13, 2023, regular meeting, alternate date, from 4:30 to 5:30 PM (1 Hour).</b></p><p><b><b>Please note the date, length of meeting (1 hour) &amp; venue change:</b> </b>This meeting is on 12/13/2023, from 4:30 to 5:30 PM, in the Board Room.</p><p><a href="https://bend.granicus.com/GeneratedAgendaViewer.php?view_id=17&amp;event_id=1023" target="_blank">HREC December 13th, 2023, Agenda</a></p><p>The agenda is found on the <a href="https://www.bendoregon.gov/government/committees/human-rights-and-equity-commission" target="_blank" id="Human Rights and Equity Commission">Human Rights and Equity Commission</a> webpage closer to the meeting date.</p><p><strong>To Attend by Computer, </strong><a href="https://bendoregon-gov.zoom.us/webinar/register/WN_PzbqIfszQb6n3G8pqSb1Xg" target="_blank" id="Pre-Register"><b>Pre-Register</b></a><strong>: </strong>You will receive an email confirmation with a personal link/information to connect via computer or phone.</p><p><strong>To </strong><strong>Attend</strong><strong> by Phone (No Pre-Registering Required):</strong></p><ul>    <li><strong>&nbsp;</strong><strong>Dial Toll-Free:</strong> 1-888-788-0099</li>    <li><strong>Webinar ID:</strong> 896 4025 7745 # #</li>    <li><strong>Passcode if prompted:</strong> 4732 (HREC)</li></ul><p><strong>Watch the</strong> <b><a href="https://youtube.com/live/Fkz-F32dF-c?feature=share" target="_blank">HREC December 13, 2023, regular meeting, live at 4:30 PM</a></b>.</p><p><strong>For additional information about this meeting:</strong>&nbsp;Please call the Accessibility and Equity Manager // HREC Liaison, Cassandra Kehoe at 541-693-2141 or email<b>&nbsp;<a href="mailto:ckehoe@bendoregon.gov" target="_blank"></a></b><a href="mailto:ckehoe@bendoregon.gov" target="_blank">ckehoe@bendoregon.gov</a>.</p><p><strong>Technical Difficulties Connecting to this Meeting:</strong> Call 541-410-9341.</p><p><b>Public Comment Section:</b></p><p>Phone Users and Zoom Attendee Comments: Toggle *(Star) nine to raise/ lower hand, and *(Star) six to mute/ unmute yourself. The host will enable the raise/ lower hand and mute/ unmute during the public comment sections only, then disable this ability/function. For further comments or additional input, about this meeting, please email the Accessibility and Equity Manager Cassandra Kehoe at&nbsp;<a href="mailto:ckehoe@bendoregon.gov?subject=ckehoe@bendoregon.gov" id="ckehoe@bendoregon.gov" title="ckehoe@bendoregon.gov">ckehoe@bendoregon.gov</a>.</p><h3>Accessible Meeting Notice Information</h3><p>This meeting/event location is accessible. Sign language interpreter service, assistive listening devices, materials in alternate formats such as Braille, large print, electronic formats, or any other accommodations are available upon advance request. Please contact the Accessibility and Equity Program at&nbsp;<a href="mailto:accessibility@bendoregon.gov?subject=accessibility@bendoregon.gov" title="accessibility@bendoregon.gov">accessibility@bendoregon.gov</a>&nbsp;or call 541-693-2198. Relay Users Dial 7-1-1. Providing, at least, 3-day notice prior to the event will help ensure availability.</p><p><strong><strong>Para solicitar copias en español de los documentas en esta página web o en un formato alternativo como Braille, letra grande, formatos electrónicos, etc.:&nbsp;</strong></strong>Por favor contacte al Director de Equidad e Inclusión, Andrés Portela&nbsp;<a href="mailto:aportela@bendoregon.gov?subject=aportela@bendoregon.gov" id="aportela@bendoregon.gov" title="aportela@bendoregon.gov">aportela@bendoregon.gov</a>&nbsp;o llame al 541-323-8563. Los usuarios de retransmisión marquen el 7-1-1.</p><p><strong><div></div></strong></p>
LOCATION:Boardroom (City Hall)\, 710 NW Wall St Bend\, Oregon 97703
CLASS:PUBLIC
END:VEVENT
END:VCALENDAR
