BEGIN:VCALENDAR
VERSION:2.0
PRODID:City of Bend Calendar Creator
METHOD:PUBLISH
BEGIN:VEVENT
DTSTAMP:20240118T120648
DTSTART:20240131T163000
DTEND:20240131T183000
SUMMARY:Human Rights and Equity Commission Hybrid Meeting
DESCRIPTION:<h2>Hybrid Meeting Notice:</h2><p>The <a href="https://www.bendoregon.gov/government/committees/human-rights-and-equity-commission" target="_blank">Human Rights and Equity Commission (HREC)</a>, conducts its hybrid meetings virtually through Zoom, and in person in Council Chambers at City Hall, 710 NW Wall Street; on <strong>Wednesday, January 31, 2024, from 4:30 to 6:30 p.m.</strong>, or watch the YouTube livestream.</p><p><a href="https://bend.granicus.com/GeneratedAgendaViewer.php?view_id=17&amp;event_id=1027" target="_blank">HREC January 31, 2024, agenda</a>.</p><p><strong>To Attend by Computer, <a href="https://bendoregon-gov.zoom.us/webinar/register/WN_RchaKS4PRqWpcjaVFfwTuw" target="_blank">Pre-Register</a>:</strong>&nbsp;You will receive an email confirmation with a personal link and information to connect via computer or phone.</p><p><strong>To&nbsp;</strong><strong>Attend</strong><strong>&nbsp;by Phone (No Pre-Registering Required):</strong></p><ul>    <li><strong>Dial Toll-Free:</strong> 1-888-788-0099</li>    <li><strong>Webinar ID:</strong> 868 4583 9014 # #</li>    <li><strong>Passcode, if prompted:</strong> 4732 (HREC)</li></ul><p><a href="https://youtube.com/live/SBdv9NWK1zs?feature=share" target="_blank"><strong>HREC January 31, 2024, regular meeting, live at 4:30 p.m.</strong></a></p><p><strong>Technical Difficulties Connecting to this Meeting:</strong>&nbsp;Call 541-410-9341.</p><p><b>Public Comment Section - Phone Users &amp; Pre-Registered Zoom Attendees, Two Minute Limit:</b></p><p>Toggle *(Star) nine to raise/lower hand, and *(Star) six to mute/unmute yourself. The host will enable the raise/lower hand and mute/unmute during the public comment sections only, then disable this ability/function. For additional input about this meeting, please email the Accessibility and Equity Manager at&nbsp;<a href="mailto:ckehoe@bendoregon.gov?subject=ckehoe@bendoregon.gov" id="ckehoe@bendoregon.gov" title="ckehoe@bendoregon.gov">ckehoe@bendoregon.gov</a>.</p><p>For additional information, please contact the Accessibility and Equity Manager // HREC Staff Liaison Cassandra Kehoe (She, Her), at&nbsp;<a href="mailto:ckehoe@bendoregon.gov?subject=ckehoe@bendoregon.gov" id="ckehoe@bendoregon.gov" title="ckehoe@bendoregon.gov">ckehoe@bendoregon.gov</a>&nbsp;or call 541-693-2141.</p><h3>Accessible Meeting Notice Information</h3><p>This meeting/event location is accessible. Sign language interpreter service, assistive listening devices, materials in alternate format such as Braille, large print, electronic formats, or any other accommodations are available upon advance request. Please contact the Accessibility and Equity Program no later than two days before the meeting date at <a href="mailto:accessibility@bendoregon.gov?subject=accessibility@bendoregon.gov" id="accessibility@bendoregon.gov" title="accessibility@bendoregon.gov">accessibility@bendoregon.gov</a><b> </b>or call 541-693-2141; Relay Users Dial 7-1-1. Providing, at least, 3 days’ notice prior to the event will help ensure availability.</p><p><strong>Para solicitar copias en español de los documentas en esta página web o en un formato alternativo como Braille, letra grande, formatos electrónicos, etc.:</strong></p><p>Por favor contacte al Director de Equidad e Inclusión, Andrés Portela <a href="mailto:aportela@bendoregon.gov?subject=aportela@bendoregon.gov" id="aportela@bendoregon.gov" title="aportela@bendoregon.gov">aportela@bendoregon.gov</a> o llame al 541-323-8563. Los usuarios de retransmisión marquen el 7-1-1.</p><p><strong><div></div></strong></p>
X-ALT-DESC;FMTTYPE=text/html:<h2>Hybrid Meeting Notice:</h2><p>The <a href="https://www.bendoregon.gov/government/committees/human-rights-and-equity-commission" target="_blank">Human Rights and Equity Commission (HREC)</a>, conducts its hybrid meetings virtually through Zoom, and in person in Council Chambers at City Hall, 710 NW Wall Street; on <strong>Wednesday, January 31, 2024, from 4:30 to 6:30 p.m.</strong>, or watch the YouTube livestream.</p><p><a href="https://bend.granicus.com/GeneratedAgendaViewer.php?view_id=17&amp;event_id=1027" target="_blank">HREC January 31, 2024, agenda</a>.</p><p><strong>To Attend by Computer, <a href="https://bendoregon-gov.zoom.us/webinar/register/WN_RchaKS4PRqWpcjaVFfwTuw" target="_blank">Pre-Register</a>:</strong>&nbsp;You will receive an email confirmation with a personal link and information to connect via computer or phone.</p><p><strong>To&nbsp;</strong><strong>Attend</strong><strong>&nbsp;by Phone (No Pre-Registering Required):</strong></p><ul>    <li><strong>Dial Toll-Free:</strong> 1-888-788-0099</li>    <li><strong>Webinar ID:</strong> 868 4583 9014 # #</li>    <li><strong>Passcode, if prompted:</strong> 4732 (HREC)</li></ul><p><a href="https://youtube.com/live/SBdv9NWK1zs?feature=share" target="_blank"><strong>HREC January 31, 2024, regular meeting, live at 4:30 p.m.</strong></a></p><p><strong>Technical Difficulties Connecting to this Meeting:</strong>&nbsp;Call 541-410-9341.</p><p><b>Public Comment Section - Phone Users &amp; Pre-Registered Zoom Attendees, Two Minute Limit:</b></p><p>Toggle *(Star) nine to raise/lower hand, and *(Star) six to mute/unmute yourself. The host will enable the raise/lower hand and mute/unmute during the public comment sections only, then disable this ability/function. For additional input about this meeting, please email the Accessibility and Equity Manager at&nbsp;<a href="mailto:ckehoe@bendoregon.gov?subject=ckehoe@bendoregon.gov" id="ckehoe@bendoregon.gov" title="ckehoe@bendoregon.gov">ckehoe@bendoregon.gov</a>.</p><p>For additional information, please contact the Accessibility and Equity Manager // HREC Staff Liaison Cassandra Kehoe (She, Her), at&nbsp;<a href="mailto:ckehoe@bendoregon.gov?subject=ckehoe@bendoregon.gov" id="ckehoe@bendoregon.gov" title="ckehoe@bendoregon.gov">ckehoe@bendoregon.gov</a>&nbsp;or call 541-693-2141.</p><h3>Accessible Meeting Notice Information</h3><p>This meeting/event location is accessible. Sign language interpreter service, assistive listening devices, materials in alternate format such as Braille, large print, electronic formats, or any other accommodations are available upon advance request. Please contact the Accessibility and Equity Program no later than two days before the meeting date at <a href="mailto:accessibility@bendoregon.gov?subject=accessibility@bendoregon.gov" id="accessibility@bendoregon.gov" title="accessibility@bendoregon.gov">accessibility@bendoregon.gov</a><b> </b>or call 541-693-2141; Relay Users Dial 7-1-1. Providing, at least, 3 days’ notice prior to the event will help ensure availability.</p><p><strong>Para solicitar copias en español de los documentas en esta página web o en un formato alternativo como Braille, letra grande, formatos electrónicos, etc.:</strong></p><p>Por favor contacte al Director de Equidad e Inclusión, Andrés Portela <a href="mailto:aportela@bendoregon.gov?subject=aportela@bendoregon.gov" id="aportela@bendoregon.gov" title="aportela@bendoregon.gov">aportela@bendoregon.gov</a> o llame al 541-323-8563. Los usuarios de retransmisión marquen el 7-1-1.</p><p><strong><div></div></strong></p>
LOCATION:Council Chambers (City Hall)\, 710 NW Wall St Bend\, Oregon 97703
CLASS:PUBLIC
END:VEVENT
END:VCALENDAR
