BEGIN:VCALENDAR
VERSION:2.0
PRODID:City of Bend Calendar Creator
METHOD:PUBLISH
BEGIN:VEVENT
DTSTAMP:20240209T153218
DTSTART:20240220T180000
DTEND:20240220T235900
SUMMARY:Landmarks Commission
DESCRIPTION:<p>The meeting convenes at 6:00PM on a hybrid, in-person and virtual Zoom platform.</p><p>Join the meeting using the following options:</p><p>In-person location: City Hall, Council Chambers, 710 NW Wall Street, Bend, OR 97703</p><p>Register via Zoom Online Meeting Link:&nbsp;<a href="https://bendoregon-gov.zoom.us/webinar/register/WN_5Y9cYc5BTpajoXLYOHXyng"><b>https://bendoregon-gov.zoom.us/webinar/register/WN_5Y9cYc5BTpajoXLYOHXyng</b></a></p><p>Join by phone: Toll-free:1- 888-788-0099</p><p>Webinar ID: 811 9140 9536</p><p>Password:&nbsp;374645</p><p>The public is invited to watch on-line at:&nbsp;<a href="https://youtube.com/live/ChO8hMMpVlc?feature=share"><b>https://youtube.com/live/ChO8hMMpVlc?feature=share</b></a></p><p>View the meeting agenda at the following link:&nbsp;<a href="https://bendoregon.prod-as.govaccess.org/home/showpublisheddocument/58245/638430857688500000" target="_blank">Landmarks Commission Agenda 2.20.2024</a></p>
X-ALT-DESC;FMTTYPE=text/html:<p>The meeting convenes at 6:00PM on a hybrid, in-person and virtual Zoom platform.</p><p>Join the meeting using the following options:</p><p>In-person location: City Hall, Council Chambers, 710 NW Wall Street, Bend, OR 97703</p><p>Register via Zoom Online Meeting Link:&nbsp;<a href="https://bendoregon-gov.zoom.us/webinar/register/WN_5Y9cYc5BTpajoXLYOHXyng"><b>https://bendoregon-gov.zoom.us/webinar/register/WN_5Y9cYc5BTpajoXLYOHXyng</b></a></p><p>Join by phone: Toll-free:1- 888-788-0099</p><p>Webinar ID: 811 9140 9536</p><p>Password:&nbsp;374645</p><p>The public is invited to watch on-line at:&nbsp;<a href="https://youtube.com/live/ChO8hMMpVlc?feature=share"><b>https://youtube.com/live/ChO8hMMpVlc?feature=share</b></a></p><p>View the meeting agenda at the following link:&nbsp;<a href="https://bendoregon.prod-as.govaccess.org/home/showpublisheddocument/58245/638430857688500000" target="_blank">Landmarks Commission Agenda 2.20.2024</a></p>
LOCATION:City Council Chambers (City Hall) and virtual Zoom platform\, 710 NW Wall Street Bend\, Oregon 97703
CLASS:PUBLIC
END:VEVENT
END:VCALENDAR
