BEGIN:VCALENDAR
VERSION:2.0
PRODID:City of Bend Calendar Creator
METHOD:PUBLISH
BEGIN:VEVENT
DTSTAMP:20240305T172628
DTSTART:20240319T180000
DTEND:20240319T235900
SUMMARY:Cancelled: Landmarks Commission
DESCRIPTION:<p>&nbsp;<b>CANCELED. SORRY FOR ANY INCONVENIENCE.</b></p><p><i>The next scheduled Bend Landmarks Meeting is April 16, 2024.</i></p>
X-ALT-DESC;FMTTYPE=text/html:<p>&nbsp;<b>CANCELED. SORRY FOR ANY INCONVENIENCE.</b></p><p><i>The next scheduled Bend Landmarks Meeting is April 16, 2024.</i></p>
LOCATION:City Council Chambers (City Hall) and virtual Zoom platform\, 710 NW Wall Street Bend\, Oregon 97703
CLASS:PUBLIC
END:VEVENT
END:VCALENDAR
