BEGIN:VCALENDAR
VERSION:2.0
PRODID:City of Bend Calendar Creator
METHOD:PUBLISH
BEGIN:VEVENT
DTSTAMP:20231011T122340
DTSTART:20231017T180000
DTEND:20231017T235900
SUMMARY:Landmarks Commission
DESCRIPTION:<p><b>City Council Chambers<br></b>Bend City Hall<br>710 NW Wall<br>Bend Oregon</p><p><strong>Tuesday, October 17, 2023, 6:00 p.m.</strong></p><p>The meeting starts at 6:00 p.m. online and in person. </p><p>The public is invited to attend either in person or participate virtually using the following options:</p><p><b>Zoom Online Meeting Link Registration Link:</b></p><p><a href="https://bendoregon-gov.zoom.us/webinar/register/WN_Z8EzSMXnQLC939WRJcqhgA"><b>https://bendoregon-gov.zoom.us/webinar/register/WN_Z8EzSMXnQLC939WRJcqhgA</b></a></p><p><b>&nbsp;</b></p><p><b>Call-in Phone Number: </b>1-888-788-0099</p><p><b>Webinar ID: </b>893 3970 0367</p><p><b>Passcode: </b>016059</p><p><b>YouTube Livestream Link:</b></p><p><a href="https://nam11.safelinks.protection.outlook.com/?url=https%3A%2F%2Fyoutube.com%2Flive%2F0419LZ7KTNU%3Ffeature%3Dshare&amp;data=05%7C01%7Celafleur%40bendoregon.gov%7C26e275a1c257460988bd08dbc11daecf%7C1c15334815ef4708aebf1e25e57dc400%7C0%7C0%7C638316105469646041%7CUnknown%7CTWFpbGZsb3d8eyJWIjoiMC4wLjAwMDAiLCJQIjoiV2luMzIiLCJBTiI6Ik1haWwiLCJXVCI6Mn0%3D%7C3000%7C%7C%7C&amp;sdata=w0RU9bLkyVmiob4lPlDcPSZ0sF1AhHlDAb9lxKRHpBE%3D&amp;reserved=0" target="_blank"><b>https://youtube.com/live/0419LZ7KTNU?feature=share</b></a></p>
X-ALT-DESC;FMTTYPE=text/html:<p><b>City Council Chambers<br></b>Bend City Hall<br>710 NW Wall<br>Bend Oregon</p><p><strong>Tuesday, October 17, 2023, 6:00 p.m.</strong></p><p>The meeting starts at 6:00 p.m. online and in person. </p><p>The public is invited to attend either in person or participate virtually using the following options:</p><p><b>Zoom Online Meeting Link Registration Link:</b></p><p><a href="https://bendoregon-gov.zoom.us/webinar/register/WN_Z8EzSMXnQLC939WRJcqhgA"><b>https://bendoregon-gov.zoom.us/webinar/register/WN_Z8EzSMXnQLC939WRJcqhgA</b></a></p><p><b>&nbsp;</b></p><p><b>Call-in Phone Number: </b>1-888-788-0099</p><p><b>Webinar ID: </b>893 3970 0367</p><p><b>Passcode: </b>016059</p><p><b>YouTube Livestream Link:</b></p><p><a href="https://nam11.safelinks.protection.outlook.com/?url=https%3A%2F%2Fyoutube.com%2Flive%2F0419LZ7KTNU%3Ffeature%3Dshare&amp;data=05%7C01%7Celafleur%40bendoregon.gov%7C26e275a1c257460988bd08dbc11daecf%7C1c15334815ef4708aebf1e25e57dc400%7C0%7C0%7C638316105469646041%7CUnknown%7CTWFpbGZsb3d8eyJWIjoiMC4wLjAwMDAiLCJQIjoiV2luMzIiLCJBTiI6Ik1haWwiLCJXVCI6Mn0%3D%7C3000%7C%7C%7C&amp;sdata=w0RU9bLkyVmiob4lPlDcPSZ0sF1AhHlDAb9lxKRHpBE%3D&amp;reserved=0" target="_blank"><b>https://youtube.com/live/0419LZ7KTNU?feature=share</b></a></p>
LOCATION:City Council Chambers (City Hall) and virtual Zoom platform\, 710 NW Wall Street Bend\, Oregon 97703
CLASS:PUBLIC
END:VEVENT
END:VCALENDAR
