BEGIN:VCALENDAR
VERSION:2.0
PRODID:City of Bend Calendar Creator
METHOD:PUBLISH
BEGIN:VEVENT
DTSTAMP:20230803T084713
DTSTART:20230815T180000
DTEND:20230815T235900
SUMMARY:Canceled, Landmarks Commission
DESCRIPTION:&nbsp;
X-ALT-DESC;FMTTYPE=text/html:&nbsp;
LOCATION:City Council Chambers (City Hall) and virtual Zoom platform\, 710 NW Wall Street Bend\, Oregon 97703
CLASS:PUBLIC
END:VEVENT
END:VCALENDAR
