BEGIN:VCALENDAR
VERSION:2.0
PRODID:City of Bend Calendar Creator
METHOD:PUBLISH
BEGIN:VEVENT
DTSTAMP:20230419T140213
DTSTART:20230418T180000
DTEND:20230418T235900
SUMMARY:Landmarks Commission
DESCRIPTION:<p>The meeting convenes at 6:00PM on a hybrid, in-person and virtual Zoom platform.</p><p>Join the meeting using the following options:</p><p>In-person location: City Hall, Council Chambers, 710 NW Wall Street, Bend, OR 97703</p><p>Register via Zoom Online Meeting information listed in the agenda.</p><p>View the meeting agenda at the following link:&nbsp;<a href="https://bendoregon.prod-as.govaccess.org/home/showpublisheddocument/55645/638326209750600000" target="_blank">20230418 HLC agenda</a></p>
X-ALT-DESC;FMTTYPE=text/html:<p>The meeting convenes at 6:00PM on a hybrid, in-person and virtual Zoom platform.</p><p>Join the meeting using the following options:</p><p>In-person location: City Hall, Council Chambers, 710 NW Wall Street, Bend, OR 97703</p><p>Register via Zoom Online Meeting information listed in the agenda.</p><p>View the meeting agenda at the following link:&nbsp;<a href="https://bendoregon.prod-as.govaccess.org/home/showpublisheddocument/55645/638326209750600000" target="_blank">20230418 HLC agenda</a></p>
LOCATION:City Council Chambers (City Hall) and virtual Zoom platform\, 710 NW Wall Street Bend\, Oregon 97703
CLASS:PUBLIC
END:VEVENT
END:VCALENDAR
