BEGIN:VCALENDAR
VERSION:2.0
PRODID:City of Bend Calendar Creator
METHOD:PUBLISH
BEGIN:VEVENT
DTSTAMP:20230131T110320
DTSTART:20220920T180000
DTEND:20220920T235900
SUMMARY:Landmarks Commission
DESCRIPTION:<p>The meeting convenes at 6:00PM on a virtual Zoom platform.<br><br>Join the meeting using the following options:<br><br>Register via Zoom Online Meeting Link: tba<br>Join by phone: Toll-free:1- 888-788-0099 Webinar ID: tba&nbsp; Passcode: tba<br><br>The public is invited to watch on-line at: tba<br><br>Please click here (tba) to view the meeting agenda.</p>
X-ALT-DESC;FMTTYPE=text/html:<p>The meeting convenes at 6:00PM on a virtual Zoom platform.<br><br>Join the meeting using the following options:<br><br>Register via Zoom Online Meeting Link: tba<br>Join by phone: Toll-free:1- 888-788-0099 Webinar ID: tba&nbsp; Passcode: tba<br><br>The public is invited to watch on-line at: tba<br><br>Please click here (tba) to view the meeting agenda.</p>
LOCATION:virtual meeting platform\, 
CLASS:PUBLIC
END:VEVENT
END:VCALENDAR
