BEGIN:VCALENDAR
VERSION:2.0
PRODID:City of Bend Calendar Creator
METHOD:PUBLISH
BEGIN:VEVENT
DTSTAMP:20240315T173744
DTSTART:20240325T173000
DTEND:20240325T235900
SUMMARY:CANCELED: Planning Commission
DESCRIPTION:<p>The March 25th Planning Commission meeting has been canceled.</p><p>Please see the Planning Commision page for future meetings:&nbsp;<a href="https://www.bendoregon.gov/government/committees/planning-commission" target="_blank">Bend Planning Commission</a></p>
X-ALT-DESC;FMTTYPE=text/html:<p>The March 25th Planning Commission meeting has been canceled.</p><p>Please see the Planning Commision page for future meetings:&nbsp;<a href="https://www.bendoregon.gov/government/committees/planning-commission" target="_blank">Bend Planning Commission</a></p>
LOCATION:City Hall\, Council Chambers and Virtual Meeting Platform\, 
CLASS:PUBLIC
END:VEVENT
END:VCALENDAR
