BEGIN:VCALENDAR
VERSION:2.0
PRODID:City of Bend Calendar Creator
METHOD:PUBLISH
BEGIN:VEVENT
DTSTAMP:20240215T100836
DTSTART:20240226T173000
DTEND:20240226T235900
SUMMARY:Canceled: Planning Commission
DESCRIPTION:<p>The February 26th Planning Commission meeting has been canceled. </p><p>&nbsp;Please see the Planning Commission page for future meetings:&nbsp;<a href="https://www.bendoregon.gov/government/committees/planning-commission" target="_blank">Bend Planning Commission</a></p>
X-ALT-DESC;FMTTYPE=text/html:<p>The February 26th Planning Commission meeting has been canceled. </p><p>&nbsp;Please see the Planning Commission page for future meetings:&nbsp;<a href="https://www.bendoregon.gov/government/committees/planning-commission" target="_blank">Bend Planning Commission</a></p>
LOCATION:City Hall\, Council Chambers and Virtual Meeting Platform\, 
CLASS:PUBLIC
END:VEVENT
END:VCALENDAR
