BEGIN:VCALENDAR
VERSION:2.0
PRODID:City of Bend Calendar Creator
METHOD:PUBLISH
BEGIN:VEVENT
DTSTAMP:20231214T131719
DTSTART:20231225T173000
DTEND:20231225T235900
SUMMARY:Cancelled: Planning Commission
DESCRIPTION:<strong>The planning commission meeting on December 25, 2023, is canceled.</strong>
X-ALT-DESC;FMTTYPE=text/html:<strong>The planning commission meeting on December 25, 2023, is canceled.</strong>
LOCATION:City Hall\, Council Chambers and Virtual Meeting Platform\, 710 NW Wall Street Bend\, Oregon 97703
CLASS:PUBLIC
END:VEVENT
END:VCALENDAR
