BEGIN:VCALENDAR
VERSION:2.0
PRODID:City of Bend Calendar Creator
METHOD:PUBLISH
BEGIN:VEVENT
DTSTAMP:20230207T102223
DTSTART:20220523T173000
DTEND:20220523T235900
SUMMARY:Planning Commission
DESCRIPTION:<p>The meeting convenes at 5:30PM on a virtual Zoom platform.</p><p>Join the meeting using the following options:</p><p>Register via Zoom Online Meeting Link: TBD</p><p>Join by phone: Toll-free:1- 888-788-0099 Webinar ID: TBD</p><p>The public is invited to watch on-line at:&nbsp;<a href="https://www.bendoregon.gov/government/committees/planning-commission" target="_blank">Bend Planning Commission</a></p><p>Please click&nbsp;<a href="https://bend.granicus.com/GeneratedAgendaViewer.php?view_id=11&amp;event_id=699" target="_blank"></a>here&nbsp;to view the meeting agenda.</p>
X-ALT-DESC;FMTTYPE=text/html:<p>The meeting convenes at 5:30PM on a virtual Zoom platform.</p><p>Join the meeting using the following options:</p><p>Register via Zoom Online Meeting Link: TBD</p><p>Join by phone: Toll-free:1- 888-788-0099 Webinar ID: TBD</p><p>The public is invited to watch on-line at:&nbsp;<a href="https://www.bendoregon.gov/government/committees/planning-commission" target="_blank">Bend Planning Commission</a></p><p>Please click&nbsp;<a href="https://bend.granicus.com/GeneratedAgendaViewer.php?view_id=11&amp;event_id=699" target="_blank"></a>here&nbsp;to view the meeting agenda.</p>
LOCATION:City Hall\, Council Chambers and Virtual Meeting Platform\, 710 NW Wall Street Bend\, Oregon 97703
CLASS:PUBLIC
END:VEVENT
END:VCALENDAR
