BEGIN:VCALENDAR
VERSION:2.0
PRODID:City of Bend Calendar Creator
METHOD:PUBLISH
BEGIN:VEVENT
DTSTAMP:20240509T152415
DTSTART:20240513T173000
DTEND:20240513T235900
SUMMARY:Planning Commission
DESCRIPTION:<p>The meeting convenes at 5:30PM on a virtual Zoom platform.</p><p>Join the meeting using the following options:</p><p>Register via Zoom Online Meeting Link: <a href="https://bendoregon-gov.zoom.us/webinar/register/WN_dRZnnM_uQo2t0d6GS65XMw" target="_blank">https://bendoregon-gov.zoom.us/webinar/register/WN_dRZnnM_uQo2t0d6GS65XMw</a></p><p>Join by phone: Toll-free:1- 888-788-0099 </p><p>Webinar ID:&nbsp;852 4872 5441</p><p>Passcode: 535427</p><p>The public is invited to watch on-line at:&nbsp;<a href="https://www.bendoregon.gov/government/committees/planning-commission" target="_blank">Bend Planning Commission</a></p><p>Please click&nbsp;<a href="https://bend.granicus.com/GeneratedAgendaViewer.php?view_id=11&amp;event_id=699" target="_blank"></a>here&nbsp;to view the meeting <a href="https://bend.granicus.com/GeneratedAgendaViewer.php?view_id=11&amp;event_id=985" target="_blank">agenda</a>.</p><p>Project Number:&nbsp;<a href="https://cityview.ci.bend.or.us/Portal/Planning/Status?planningId=28109" target="_blank">PLTEXT20240140</a></p><p>Project Number:&nbsp;<a href="https://cityview.ci.bend.or.us/Portal/Planning/Status?planningId=28074" target="_blank">PLTEXT20240105</a></p><div><span style="text-align: center; background-color: rgba(255, 255, 255, 0.35);"><br></span></div>
X-ALT-DESC;FMTTYPE=text/html:<p>The meeting convenes at 5:30PM on a virtual Zoom platform.</p><p>Join the meeting using the following options:</p><p>Register via Zoom Online Meeting Link: <a href="https://bendoregon-gov.zoom.us/webinar/register/WN_dRZnnM_uQo2t0d6GS65XMw" target="_blank">https://bendoregon-gov.zoom.us/webinar/register/WN_dRZnnM_uQo2t0d6GS65XMw</a></p><p>Join by phone: Toll-free:1- 888-788-0099 </p><p>Webinar ID:&nbsp;852 4872 5441</p><p>Passcode: 535427</p><p>The public is invited to watch on-line at:&nbsp;<a href="https://www.bendoregon.gov/government/committees/planning-commission" target="_blank">Bend Planning Commission</a></p><p>Please click&nbsp;<a href="https://bend.granicus.com/GeneratedAgendaViewer.php?view_id=11&amp;event_id=699" target="_blank"></a>here&nbsp;to view the meeting <a href="https://bend.granicus.com/GeneratedAgendaViewer.php?view_id=11&amp;event_id=985" target="_blank">agenda</a>.</p><p>Project Number:&nbsp;<a href="https://cityview.ci.bend.or.us/Portal/Planning/Status?planningId=28109" target="_blank">PLTEXT20240140</a></p><p>Project Number:&nbsp;<a href="https://cityview.ci.bend.or.us/Portal/Planning/Status?planningId=28074" target="_blank">PLTEXT20240105</a></p><div><span style="text-align: center; background-color: rgba(255, 255, 255, 0.35);"><br></span></div>
LOCATION:City Hall\, Council Chambers and Virtual Meeting Platform\, 710 NW Wall Street Bend\, Oregon 97703
CLASS:PUBLIC
END:VEVENT
END:VCALENDAR
