BEGIN:VCALENDAR
VERSION:2.0
PRODID:City of Bend Calendar Creator
METHOD:PUBLISH
BEGIN:VEVENT
DTSTAMP:20240307T103706
DTSTART:20240311T173000
DTEND:20240311T235900
SUMMARY:Planning Commission
DESCRIPTION:<p>The meeting convenes at 5:30PM on a virtual Zoom platform.</p><p>Join the meeting using the following options:</p><p>Register via Zoom Online Meeting Link:&nbsp;<strong><a href="https://bendoregon-gov.zoom.us/webinar/register/WN_XzDLoLSgTTeJDX74e0rhcg" target="_blank">https://bendoregon-gov.zoom.us/webinar/register/WN_XzDLoLSgTTeJDX74e0rhcg</a></strong><div>&nbsp;</div><div>Join by phone: Toll-free:<strong>1-888-788-0099</strong></div></p><p>Webinar ID: <strong>847 2911 2067</strong></p><p>Passcode:<strong>&nbsp;<strong>271065</strong></strong></p><p>The public is invited to watch on-line at:&nbsp;<a href="https://www.bendoregon.gov/government/committees/planning-commission" target="_blank">Bend Planning Commission</a></p><p>Please click&nbsp;<a href="https://bend.granicus.com/GeneratedAgendaViewer.php?view_id=11&amp;event_id=699" target="_blank"></a>here&nbsp;to view the meeting <a href="https://bend.granicus.com/GeneratedAgendaViewer.php?view_id=11&amp;event_id=981" target="_blank">Agenda</a>.&nbsp;</p><p>Project Number:&nbsp;<a href="https://cityview.ci.bend.or.us/Portal/Planning/Status?planningId=27922" target="_blank">&nbsp;<strong>PLDR20230705&nbsp;</strong></a></p>
X-ALT-DESC;FMTTYPE=text/html:<p>The meeting convenes at 5:30PM on a virtual Zoom platform.</p><p>Join the meeting using the following options:</p><p>Register via Zoom Online Meeting Link:&nbsp;<strong><a href="https://bendoregon-gov.zoom.us/webinar/register/WN_XzDLoLSgTTeJDX74e0rhcg" target="_blank">https://bendoregon-gov.zoom.us/webinar/register/WN_XzDLoLSgTTeJDX74e0rhcg</a></strong><div>&nbsp;</div><div>Join by phone: Toll-free:<strong>1-888-788-0099</strong></div></p><p>Webinar ID: <strong>847 2911 2067</strong></p><p>Passcode:<strong>&nbsp;<strong>271065</strong></strong></p><p>The public is invited to watch on-line at:&nbsp;<a href="https://www.bendoregon.gov/government/committees/planning-commission" target="_blank">Bend Planning Commission</a></p><p>Please click&nbsp;<a href="https://bend.granicus.com/GeneratedAgendaViewer.php?view_id=11&amp;event_id=699" target="_blank"></a>here&nbsp;to view the meeting <a href="https://bend.granicus.com/GeneratedAgendaViewer.php?view_id=11&amp;event_id=981" target="_blank">Agenda</a>.&nbsp;</p><p>Project Number:&nbsp;<a href="https://cityview.ci.bend.or.us/Portal/Planning/Status?planningId=27922" target="_blank">&nbsp;<strong>PLDR20230705&nbsp;</strong></a></p>
LOCATION:City Hall\, Council Chambers and Virtual Meeting Platform\, 710 NW Wall Street Bend\, Oregon 97703
CLASS:PUBLIC
END:VEVENT
END:VCALENDAR
