BEGIN:VCALENDAR
VERSION:2.0
PRODID:City of Bend Calendar Creator
METHOD:PUBLISH
BEGIN:VEVENT
DTSTAMP:20240102T155101
DTSTART:20240108T173000
DTEND:20240108T235900
SUMMARY:CANCELED: Planning Commission
DESCRIPTION:<p>The meeting is canceled.&nbsp;</p><p>Check the Planning Commission Calendar for details regarding the next meeting.&nbsp;</p>
X-ALT-DESC;FMTTYPE=text/html:<p>The meeting is canceled.&nbsp;</p><p>Check the Planning Commission Calendar for details regarding the next meeting.&nbsp;</p>
LOCATION:City Hall\, Council Chambers and Virtual Meeting Platform\, 710 NW Wall Street Bend\, Oregon 97703
CLASS:PUBLIC
END:VEVENT
END:VCALENDAR
