BEGIN:VCALENDAR
VERSION:2.0
PRODID:City of Bend Calendar Creator
METHOD:PUBLISH
BEGIN:VEVENT
DTSTAMP:20230315T154129
DTSTART:20230316T150000
DTEND:20230316T170000
SUMMARY:Core Area Advisory Board Meeting
DESCRIPTION:<h3>For more information on the Core Area Advisory Board, check out the <a href="https://www.bendoregon.gov/government/committees/core-area-advisory-board" target="_blank">CAAB webpage</a>.&nbsp;</h3><table width="100%" cellspacing="0" cellpadding="0" border="0"></table><div unselectable="on" rrsw"="" rel="rrWidget"></div><div unselectable="on" rrs"="" rel="rrWidget"></div><div unselectable="on" rrse"="" rel="rrWidget"></div><div unselectable="on" rre"="" rel="rrWidget"></div><div unselectable="on" rrne"="" rel="rrWidget"></div><div unselectable="on" rrn"="" rel="rrWidget"></div><div unselectable="on" rrnw"="" rel="rrWidget"></div><div unselectable="on" rrw"="" rel="rrWidget"></div><table width="100%" cellspacing="0" cellpadding="0" border="0">    <tbody>        <tr>            <td></td>        </tr>    </tbody></table><b><h3><a href="https://bendoregon.prod-as.govaccess.org/home/showpublisheddocument/55288/638139456465400000" target="_blank">AGENDA</a> </h3><h3>HYBRID MEETING NOTICE</h3></b><p><strong>The meeting will convene on March 16,2023 from 3:00 p.m. to 5:00 p.m.</strong></p><p><b>IN PERSON LOCATION</b>: City Council Chambers, City Hall, 710 NW Wall St.&nbsp;</p><p><b>VIRTUALLY ON ZOOM</b>:&nbsp;</p><p>Committee Members, Panelists and City Staff – To join the meeting online, use the Custom Zoom Meeting Link sent to you in a separate email directly from Zoom. You will also receive a reminder email about one hour before the meeting.&nbsp;</p><p>Regular Attendees – <a href="https://bendoregon-gov.zoom.us/j/81353799136?pwd=eTNTUldaVUMxTHp4MFRSSmRUM1Nhdz09" target="_blank">To join via Computer (Zoom), click here</a>.&nbsp;</p><p>Passcode (if required): &nbsp;<strong>968542</strong>&nbsp;&nbsp;</p><p><b>Or you may call into the meeting</b><b>&nbsp;</b></p><p>• United States Toll Free: 1-888-788-0099&nbsp;</p><p>• United States Toll: 1-253-215-8782&nbsp;</p><p>• Webinar ID: 813 5379 9136##&nbsp;</p><p>If you have <b>technical difficulties </b>connecting to the meeting, call 541-410-9341&nbsp;</p><p><strong> Live Streaming Link:&nbsp;<a href="https://youtube.com/live/q0W7Jyb_QNo?feature=share" target="_blank">https://youtube.com/live/q0W7Jyb_QNo?feature=share</a></strong></p><p><span style="color: rgb(192, 0, 0);"></span></p>
X-ALT-DESC;FMTTYPE=text/html:<h3>For more information on the Core Area Advisory Board, check out the <a href="https://www.bendoregon.gov/government/committees/core-area-advisory-board" target="_blank">CAAB webpage</a>.&nbsp;</h3><table width="100%" cellspacing="0" cellpadding="0" border="0"></table><div unselectable="on" rrsw"="" rel="rrWidget"></div><div unselectable="on" rrs"="" rel="rrWidget"></div><div unselectable="on" rrse"="" rel="rrWidget"></div><div unselectable="on" rre"="" rel="rrWidget"></div><div unselectable="on" rrne"="" rel="rrWidget"></div><div unselectable="on" rrn"="" rel="rrWidget"></div><div unselectable="on" rrnw"="" rel="rrWidget"></div><div unselectable="on" rrw"="" rel="rrWidget"></div><table width="100%" cellspacing="0" cellpadding="0" border="0">    <tbody>        <tr>            <td></td>        </tr>    </tbody></table><b><h3><a href="https://bendoregon.prod-as.govaccess.org/home/showpublisheddocument/55288/638139456465400000" target="_blank">AGENDA</a> </h3><h3>HYBRID MEETING NOTICE</h3></b><p><strong>The meeting will convene on March 16,2023 from 3:00 p.m. to 5:00 p.m.</strong></p><p><b>IN PERSON LOCATION</b>: City Council Chambers, City Hall, 710 NW Wall St.&nbsp;</p><p><b>VIRTUALLY ON ZOOM</b>:&nbsp;</p><p>Committee Members, Panelists and City Staff – To join the meeting online, use the Custom Zoom Meeting Link sent to you in a separate email directly from Zoom. You will also receive a reminder email about one hour before the meeting.&nbsp;</p><p>Regular Attendees – <a href="https://bendoregon-gov.zoom.us/j/81353799136?pwd=eTNTUldaVUMxTHp4MFRSSmRUM1Nhdz09" target="_blank">To join via Computer (Zoom), click here</a>.&nbsp;</p><p>Passcode (if required): &nbsp;<strong>968542</strong>&nbsp;&nbsp;</p><p><b>Or you may call into the meeting</b><b>&nbsp;</b></p><p>• United States Toll Free: 1-888-788-0099&nbsp;</p><p>• United States Toll: 1-253-215-8782&nbsp;</p><p>• Webinar ID: 813 5379 9136##&nbsp;</p><p>If you have <b>technical difficulties </b>connecting to the meeting, call 541-410-9341&nbsp;</p><p><strong> Live Streaming Link:&nbsp;<a href="https://youtube.com/live/q0W7Jyb_QNo?feature=share" target="_blank">https://youtube.com/live/q0W7Jyb_QNo?feature=share</a></strong></p><p><span style="color: rgb(192, 0, 0);"></span></p>
LOCATION:Hybrid Meeting; see details below\, 
CLASS:PUBLIC
END:VEVENT
END:VCALENDAR
