BEGIN:VCALENDAR
VERSION:2.0
PRODID:City of Bend Calendar Creator
METHOD:PUBLISH
BEGIN:VEVENT
DTSTAMP:20230419T123234
DTSTART:20230403T120000
DTEND:20230403T140000
SUMMARY:Bend Economic Development Advisory Board (BEDAB) Hybrid meeting
DESCRIPTION:<h3><a href="https://bendoregon.prod-as.govaccess.org/home/showpublisheddocument/55486/638161264648270000" target="_blank">Agenda</a></h3><p><b>HYBRID MEETING NOTICE</b></p><p>The meeting will convene on April 3,2023 from noon to 2:00 p.m.</p><p>&nbsp;<b>IN PERSON LOCATION</b>: City Council Chambers, City Hall, 710 NW Wall St.</p><p>&nbsp;<b>VIRTUALLY ON ZOOM</b>:</p><p>&nbsp;Committee Members, Ex Officio members and City Staff – To join the meeting online, use the Custom Zoom Meeting Link sent to you in a separate email directly from Zoom. You will also receive a reminder email about one hour before the meeting.</p><p>&nbsp;Regular Attendees – <a href="https://bendoregon-gov.zoom.us/j/86865702421?pwd=SE11S1Vka05md0c2ME9zRUliM25rQT09">To join via Computer (Zoom), click here.</a></p><p>&nbsp;Passcode (if required):&nbsp; 684548</p><p>&nbsp;<b>Or you may call into the meeting:</b></p><p><b>&nbsp;</b>• United States Toll Free: 1-888-788-0099</p><p>&nbsp;• United States Toll: 1-253-215-8782</p><p>&nbsp;• Webinar ID: 868 6570 2421##</p><p>&nbsp;If you have <b>technical difficulties </b>connecting to the meeting, call</p><p>541-410-9341</p><p>&nbsp;Live Streaming Link: <a href="https://youtube.com/live/UzGM3Y8plWo?feature=share">https://youtube.com/live/UzGM3Y8plWo?feature=share</a></p>
X-ALT-DESC;FMTTYPE=text/html:<h3><a href="https://bendoregon.prod-as.govaccess.org/home/showpublisheddocument/55486/638161264648270000" target="_blank">Agenda</a></h3><p><b>HYBRID MEETING NOTICE</b></p><p>The meeting will convene on April 3,2023 from noon to 2:00 p.m.</p><p>&nbsp;<b>IN PERSON LOCATION</b>: City Council Chambers, City Hall, 710 NW Wall St.</p><p>&nbsp;<b>VIRTUALLY ON ZOOM</b>:</p><p>&nbsp;Committee Members, Ex Officio members and City Staff – To join the meeting online, use the Custom Zoom Meeting Link sent to you in a separate email directly from Zoom. You will also receive a reminder email about one hour before the meeting.</p><p>&nbsp;Regular Attendees – <a href="https://bendoregon-gov.zoom.us/j/86865702421?pwd=SE11S1Vka05md0c2ME9zRUliM25rQT09">To join via Computer (Zoom), click here.</a></p><p>&nbsp;Passcode (if required):&nbsp; 684548</p><p>&nbsp;<b>Or you may call into the meeting:</b></p><p><b>&nbsp;</b>• United States Toll Free: 1-888-788-0099</p><p>&nbsp;• United States Toll: 1-253-215-8782</p><p>&nbsp;• Webinar ID: 868 6570 2421##</p><p>&nbsp;If you have <b>technical difficulties </b>connecting to the meeting, call</p><p>541-410-9341</p><p>&nbsp;Live Streaming Link: <a href="https://youtube.com/live/UzGM3Y8plWo?feature=share">https://youtube.com/live/UzGM3Y8plWo?feature=share</a></p>
LOCATION:Virtual Meeting Via Zoom: see details below\, 
CLASS:PUBLIC
END:VEVENT
END:VCALENDAR
