BEGIN:VCALENDAR
VERSION:2.0
PRODID:City of Bend Calendar Creator
METHOD:PUBLISH
BEGIN:VEVENT
DTSTAMP:20230801T095047
DTSTART:20230807T120000
DTEND:20230807T140000
SUMMARY:CANCELED-Bend Economic Development Advisory Board (BEDAB) Hybrid Meeting
DESCRIPTION:<p><b>BEDAB ADVISORY BOARD AUGUST HYBRID MEETING has been&nbsp;CANCELED.</b></p><p><b>&nbsp;Next meeting is scheduled for September 11,2023.&nbsp; Meeting information and Zoom link will be provided closer to scheduled meeting.</b></p><p>&nbsp;</p>
X-ALT-DESC;FMTTYPE=text/html:<p><b>BEDAB ADVISORY BOARD AUGUST HYBRID MEETING has been&nbsp;CANCELED.</b></p><p><b>&nbsp;Next meeting is scheduled for September 11,2023.&nbsp; Meeting information and Zoom link will be provided closer to scheduled meeting.</b></p><p>&nbsp;</p>
LOCATION:Virtual Meeting Via Zoom: see details below\, 
CLASS:PUBLIC
END:VEVENT
END:VCALENDAR
