BEGIN:VCALENDAR
VERSION:2.0
PRODID:City of Bend Calendar Creator
METHOD:PUBLISH
BEGIN:VEVENT
DTSTAMP:20240816T110537
DTSTART:20240822T130000
DTEND:20240822T143000
SUMMARY:CANCELED: City of Bend Accessibility Advisory Committee Hybrid Meeting - Summer Break
DESCRIPTION:<h2><b>The August 22, 2024, City of Bend Accessibility Advisory Committee (COBAAC), is CANCELED for Summer Break</b></h2><h2><b><p>COBAAC will reconvene September 26, 2024, from 1:00 to 2:30 PM&nbsp;</p></b></h2><p><b><p>For additional information: Please email the Accessibility and Equity Manager // COBAAC Staff Liaison, Cassandra Kehoe, (She/Her/Ella) at&nbsp;<a href="mailto:ckehoe@bendoregon.gov?subject=ckehoe@bendoregon.gov" id="ckehoe@bendoregon.gov" title="ckehoe@bendoregon.gov">ckehoe@bendoregon.gov</a>.&nbsp;</p></b></p><p><b></b></p>
X-ALT-DESC;FMTTYPE=text/html:<h2><b>The August 22, 2024, City of Bend Accessibility Advisory Committee (COBAAC), is CANCELED for Summer Break</b></h2><h2><b><p>COBAAC will reconvene September 26, 2024, from 1:00 to 2:30 PM&nbsp;</p></b></h2><p><b><p>For additional information: Please email the Accessibility and Equity Manager // COBAAC Staff Liaison, Cassandra Kehoe, (She/Her/Ella) at&nbsp;<a href="mailto:ckehoe@bendoregon.gov?subject=ckehoe@bendoregon.gov" id="ckehoe@bendoregon.gov" title="ckehoe@bendoregon.gov">ckehoe@bendoregon.gov</a>.&nbsp;</p></b></p><p><b></b></p>
LOCATION:Council Chambers (City Hall)\, 710 NW Wall St Bend\, Oregon 97703
CLASS:PUBLIC
END:VEVENT
END:VCALENDAR
