BEGIN:VCALENDAR
VERSION:2.0
PRODID:City of Bend Calendar Creator
METHOD:PUBLISH
BEGIN:VEVENT
DTSTAMP:20230810T100911
DTSTART:20230910T110000
DTEND:20230910T150000
SUMMARY:Welcoming Week Kick-off Party
DESCRIPTION:<p><b>Welcoming Week Kick-off Party &nbsp;</b>&nbsp;<br><b>11 a.m. – 3 p.m. </b><b>The Commons, 875 NW Brooks Street, Bend</b></p><p>Hosted by: <i>Human Rights and Equity Commission, City of Bend Accessibility Advisory Committee</i></p><p> Join us for a celebratory open-mic event with local musicians and vendors, as well as non-profits from the Bend community. Attendees will have an opportunity to contribute to a community art piece!&nbsp;</p><p scxw1496168="" paraid="2004730393" paraeid="{07c5e9dc-2802-4aa0-9378-a366791daded}{218}"><strong>Fiesta de inauguración de la semana de bienvenida&nbsp; &nbsp;&nbsp;<br></strong><strong>11:00 a. m.–3:00 p. m. The Commons, 875 NW Brooks Street, Bend&nbsp;</strong></p><p scxw1496168="" paraid="1509511905" paraeid="{07c5e9dc-2802-4aa0-9378-a366791daded}{234}">Organizado por: Comisión de Derechos Humanos y Equidad (Human Rights and Equity Commission), Comité Asesor de Accesibilidad de la Ciudad de Bend (City of Bend Accessibility Advisory Committee)&nbsp;</p><p scxw1496168="" paraid="1992279864" paraeid="{07c5e9dc-2802-4aa0-9378-a366791daded}{242}">Participe con nosotros en un evento festivo de micrófono abierto con músicos y vendedores locales, y organizaciones sin ánimo de lucro de la comunidad de Bend. ¡Los asistentes tendrán la oportunidad de contribuir a una obra de arte de la comunidad!&nbsp;</p><p><hr>The City of Bend became a Welcoming City in 2017. As part of this recognition, we participate in Welcoming Week every year. This is a week of events centered on inclusivity and belonging #inBend! Learn more about Welcoming Week and the list of 2023 events at <a href="https://bendoregon.prod-as.govaccess.org/events/welcoming-week">bendoregon.gov/welcomingweek</a>.</p><p>&nbsp;</p>
X-ALT-DESC;FMTTYPE=text/html:<p><b>Welcoming Week Kick-off Party &nbsp;</b>&nbsp;<br><b>11 a.m. – 3 p.m. </b><b>The Commons, 875 NW Brooks Street, Bend</b></p><p>Hosted by: <i>Human Rights and Equity Commission, City of Bend Accessibility Advisory Committee</i></p><p> Join us for a celebratory open-mic event with local musicians and vendors, as well as non-profits from the Bend community. Attendees will have an opportunity to contribute to a community art piece!&nbsp;</p><p scxw1496168="" paraid="2004730393" paraeid="{07c5e9dc-2802-4aa0-9378-a366791daded}{218}"><strong>Fiesta de inauguración de la semana de bienvenida&nbsp; &nbsp;&nbsp;<br></strong><strong>11:00 a. m.–3:00 p. m. The Commons, 875 NW Brooks Street, Bend&nbsp;</strong></p><p scxw1496168="" paraid="1509511905" paraeid="{07c5e9dc-2802-4aa0-9378-a366791daded}{234}">Organizado por: Comisión de Derechos Humanos y Equidad (Human Rights and Equity Commission), Comité Asesor de Accesibilidad de la Ciudad de Bend (City of Bend Accessibility Advisory Committee)&nbsp;</p><p scxw1496168="" paraid="1992279864" paraeid="{07c5e9dc-2802-4aa0-9378-a366791daded}{242}">Participe con nosotros en un evento festivo de micrófono abierto con músicos y vendedores locales, y organizaciones sin ánimo de lucro de la comunidad de Bend. ¡Los asistentes tendrán la oportunidad de contribuir a una obra de arte de la comunidad!&nbsp;</p><p><hr>The City of Bend became a Welcoming City in 2017. As part of this recognition, we participate in Welcoming Week every year. This is a week of events centered on inclusivity and belonging #inBend! Learn more about Welcoming Week and the list of 2023 events at <a href="https://bendoregon.prod-as.govaccess.org/events/welcoming-week">bendoregon.gov/welcomingweek</a>.</p><p>&nbsp;</p>
LOCATION:The Commons\, 875 NW Brooks Street Bend\, Oregon 
CLASS:PUBLIC
END:VEVENT
END:VCALENDAR
