BEGIN:VCALENDAR
VERSION:2.0
PRODID:City of Bend Calendar Creator
METHOD:PUBLISH
BEGIN:VEVENT
DTSTAMP:20230810T102117
DTSTART:20230916T160000
DTEND:20230916T190000
SUMMARY:Welcoming Week: Latino Cultures Celebration
DESCRIPTION:<p><b>Latino Cultures Celebration</b><br><b>4 – 7 p.m. </b><b>The Commons, 875 NW Brooks Street, Bend</b></p><p>Hosted by: <i>Latino Community Association</i></p><p>Join the Latino Community Association in Bend as they kick off Hispanic Heritage Month. Experience Latino culture, art, music, and food from local community vendors. ALL ARE WELCOME!</p><p scxw103431506="" bcx0"="" paraid="1756802580" paraeid="{a5caf0e1-39f8-445f-82ef-4a5af5dd63d3}{22}"><strong>Celebración de las culturas latinas <br>4:00 – 7:00 p. m. The Commons, 875 NW Brooks Street, Bend&nbsp;</strong></p><p scxw103431506="" bcx0"="" paraid="2006670044" paraeid="{a5caf0e1-39f8-445f-82ef-4a5af5dd63d3}{44}">Organizado por: Latino Community Association&nbsp;</p><p scxw103431506="" bcx0"="" paraid="1173769460" paraeid="{a5caf0e1-39f8-445f-82ef-4a5af5dd63d3}{52}">Únase a la Latino Community Association en Bend para dar inicio al Mes de la Herencia Hispana. Experimente la cultura latina, el arte, la música y la comida de los vendedores de la comunidad local. ¡TODOS SON BIENVENIDOS!&nbsp;</p><p><hr>The City of Bend became a Welcoming City in 2017. As part of this recognition, we participate in Welcoming Week every year. This is a week of events centered on inclusivity and belonging #inBend! Learn more about Welcoming Week and the list of 2023 events at&nbsp;<a href="https://www.bendoregon.gov/Admin/Components/Calendar/Event/Add/?navid=1635">bendoregon.gov/welcomingweek</a>.</p>
X-ALT-DESC;FMTTYPE=text/html:<p><b>Latino Cultures Celebration</b><br><b>4 – 7 p.m. </b><b>The Commons, 875 NW Brooks Street, Bend</b></p><p>Hosted by: <i>Latino Community Association</i></p><p>Join the Latino Community Association in Bend as they kick off Hispanic Heritage Month. Experience Latino culture, art, music, and food from local community vendors. ALL ARE WELCOME!</p><p scxw103431506="" bcx0"="" paraid="1756802580" paraeid="{a5caf0e1-39f8-445f-82ef-4a5af5dd63d3}{22}"><strong>Celebración de las culturas latinas <br>4:00 – 7:00 p. m. The Commons, 875 NW Brooks Street, Bend&nbsp;</strong></p><p scxw103431506="" bcx0"="" paraid="2006670044" paraeid="{a5caf0e1-39f8-445f-82ef-4a5af5dd63d3}{44}">Organizado por: Latino Community Association&nbsp;</p><p scxw103431506="" bcx0"="" paraid="1173769460" paraeid="{a5caf0e1-39f8-445f-82ef-4a5af5dd63d3}{52}">Únase a la Latino Community Association en Bend para dar inicio al Mes de la Herencia Hispana. Experimente la cultura latina, el arte, la música y la comida de los vendedores de la comunidad local. ¡TODOS SON BIENVENIDOS!&nbsp;</p><p><hr>The City of Bend became a Welcoming City in 2017. As part of this recognition, we participate in Welcoming Week every year. This is a week of events centered on inclusivity and belonging #inBend! Learn more about Welcoming Week and the list of 2023 events at&nbsp;<a href="https://www.bendoregon.gov/Admin/Components/Calendar/Event/Add/?navid=1635">bendoregon.gov/welcomingweek</a>.</p>
LOCATION:The Commons\, 875 NW Brooks Street Bend\, Oregon 
CLASS:PUBLIC
END:VEVENT
END:VCALENDAR
