BEGIN:VCALENDAR
VERSION:2.0
PRODID:City of Bend Calendar Creator
METHOD:PUBLISH
BEGIN:VEVENT
DTSTAMP:20230810T102255
DTSTART:20230917T110000
DTEND:20230917T140000
SUMMARY:Welcoming Week: Health Equity Fair
DESCRIPTION:<p><b>Health Equity Fair</b><br><b>11 a.m. – 2 p.m. </b><b>Ponderosa Park, 225 SE 15<sup>th</sup> Street, Bend</b></p><p>Hosted by: <i>Mosaic Community Health, Deschutes County Health Services, Volunteers in Medicine</i></p><p> This Health Equity Fair is jointly hosted by Deschutes County Health Services, Volunteers in Medicine, and Mosaic Community Health and is focused on bringing welcoming providers and services to the community. All providers will be sharing how they best serve the community by offering inclusive and accessible services. Community members will have the opportunity to learn about the various health services available and get a feel for where they will be most comfortable accessing services.</p><p scxw64705350="" bcx0"="" paraid="1640293430" paraeid="{a5caf0e1-39f8-445f-82ef-4a5af5dd63d3}{70}"><strong>Feria de la equidad médica <br>11:00 a. m. – 2:00 p. m. Ponderosa Park, 225 SE 15th Street, Bend&nbsp;</strong></p><p scxw64705350="" bcx0"="" paraid="556206534" paraeid="{a5caf0e1-39f8-445f-82ef-4a5af5dd63d3}{96}">Organizado por: Mosaic Community Health, Servicios de salud del condado de Deschutes (Deschutes County Health Services), Volunteers in Medicine&nbsp;</p><p scxw64705350="" bcx0"="" paraid="354684539" paraeid="{a5caf0e1-39f8-445f-82ef-4a5af5dd63d3}{112}">Esta feria de la equidad médica la organiza conjuntamente Servicios de salud del condado de Deschutes, Volunteers in Medicine y Mosaic Community Health, y se centra en traer a la comunidad proveedores y servicios acogedores. Todos los proveedores compartirán cómo sirven mejor a la comunidad ofreciendo servicios inclusivos y accesibles. Los miembros de la comunidad tendrán la oportunidad de aprender sobre varios servicios médicos disponibles y familiarizarse con los lugares en los que les será más cómodo acceder a los servicios.&nbsp;</p><p><hr>The City of Bend became a Welcoming City in 2017. As part of this recognition, we participate in Welcoming Week every year. This is a week of events centered on inclusivity and belonging #inBend! Learn more about Welcoming Week and the list of 2023 events at&nbsp;<a href="https://www.bendoregon.gov/Admin/Components/Calendar/Event/Add/?navid=1635">bendoregon.gov/welcomingweek</a>.</p>
X-ALT-DESC;FMTTYPE=text/html:<p><b>Health Equity Fair</b><br><b>11 a.m. – 2 p.m. </b><b>Ponderosa Park, 225 SE 15<sup>th</sup> Street, Bend</b></p><p>Hosted by: <i>Mosaic Community Health, Deschutes County Health Services, Volunteers in Medicine</i></p><p> This Health Equity Fair is jointly hosted by Deschutes County Health Services, Volunteers in Medicine, and Mosaic Community Health and is focused on bringing welcoming providers and services to the community. All providers will be sharing how they best serve the community by offering inclusive and accessible services. Community members will have the opportunity to learn about the various health services available and get a feel for where they will be most comfortable accessing services.</p><p scxw64705350="" bcx0"="" paraid="1640293430" paraeid="{a5caf0e1-39f8-445f-82ef-4a5af5dd63d3}{70}"><strong>Feria de la equidad médica <br>11:00 a. m. – 2:00 p. m. Ponderosa Park, 225 SE 15th Street, Bend&nbsp;</strong></p><p scxw64705350="" bcx0"="" paraid="556206534" paraeid="{a5caf0e1-39f8-445f-82ef-4a5af5dd63d3}{96}">Organizado por: Mosaic Community Health, Servicios de salud del condado de Deschutes (Deschutes County Health Services), Volunteers in Medicine&nbsp;</p><p scxw64705350="" bcx0"="" paraid="354684539" paraeid="{a5caf0e1-39f8-445f-82ef-4a5af5dd63d3}{112}">Esta feria de la equidad médica la organiza conjuntamente Servicios de salud del condado de Deschutes, Volunteers in Medicine y Mosaic Community Health, y se centra en traer a la comunidad proveedores y servicios acogedores. Todos los proveedores compartirán cómo sirven mejor a la comunidad ofreciendo servicios inclusivos y accesibles. Los miembros de la comunidad tendrán la oportunidad de aprender sobre varios servicios médicos disponibles y familiarizarse con los lugares en los que les será más cómodo acceder a los servicios.&nbsp;</p><p><hr>The City of Bend became a Welcoming City in 2017. As part of this recognition, we participate in Welcoming Week every year. This is a week of events centered on inclusivity and belonging #inBend! Learn more about Welcoming Week and the list of 2023 events at&nbsp;<a href="https://www.bendoregon.gov/Admin/Components/Calendar/Event/Add/?navid=1635">bendoregon.gov/welcomingweek</a>.</p>
LOCATION:Ponderosa Park\, 225 SE 15th Street Bend\, Oregon 
CLASS:PUBLIC
END:VEVENT
END:VCALENDAR
