BEGIN:VCALENDAR
VERSION:2.0
PRODID:City of Bend Calendar Creator
METHOD:PUBLISH
BEGIN:VEVENT
DTSTAMP:20240321T162159
DTSTART:20240327T163000
DTEND:20240327T183000
SUMMARY:Human Rights and Equity Commission Hybrid Meeting
DESCRIPTION:<div><h2>Hybrid Meeting Notice:</h2><p>The <a href="https://www.bendoregon.gov/government/committees/human-rights-and-equity-commission" target="_blank">Human Rights and Equity Commission</a>&nbsp;(HREC) conducts its meetings, virtually through Zoom and in person in Council Chambers at City Hall, 710 NW Wall Street; on&nbsp;<strong>Wednesday, March 27, 2024, from 4:30 to 6:30 p.m.</strong>, or watch the YouTube livestream.</p><p><a href="https://bend.granicus.com/GeneratedAgendaViewer.php?view_id=17&amp;event_id=1042" target="_blank">HREC March 27, 2024, Final Agenda</a>.</p><p><strong>To Attend by Computer, <a href="https://bendoregon-gov.zoom.us/webinar/register/WN_DBj0kIlWTo-b-DvVCdq9aw">Pre-Register</a>:&nbsp;</strong>You will receive an email confirmation with a personalized link information to connect via computer or phone.</p><p><strong>To Attend by Phone (No Pre-Registration Required):</strong></p><ul>    <li><strong>&nbsp;</strong><b>Dial Toll-Free:</b> 1-888-788-0099</li>    <li><b>Webinar ID: </b>810 9037 6090</li>    <li><b>Passcode if prompted:</b> 4732 (HREC)</li></ul><p><a href="https://youtube.com/live/r3KOgZoGU6E?feature=share" target="_blank" id="HREC March 27, 2024, regular meeting, live at 4:30 p.m."><b>HREC March 27, 2024, regular meeting, live at 4:30 p.m.</b></a></p><p><strong>Technical Difficulties Connecting to this Meeting:</strong>&nbsp;Call 541-410-9341.</p><p><b>Public Comment Section - Phone Users &amp; Pre-Registered Zoom Attendees, Two Minute Limit:</b></p><p>Toggle *(Star) nine to raise/lower hand, and *(Star) six to mute/unmute yourself. The host will enable the raise/lower hand and mute/unmute during the public comment sections only, then disable this ability/function. For additional input about this meeting, please email Equity and Inclusion Director: <a href="mailto:aportela@bendoregon.gov?subject=aportela@bendoregon.gov" id="aportela@bendoregon.gov" title="aportela@bendoregon.gov">Andrés Portela</a>.</p><p>For additional information, please contact the Equity and Inclusion Director // HREC Staff Liaison Andrés Portela (He, Him), at&nbsp;<a href="mailto:aportela@bendoregon.gov?subject=aportela@bendoregon.gov" id="aportela@bendoregon.gov" title="aportela@bendoregon.gov">aportela@bendoregon.gov</a>&nbsp;or call 541-323-8563.</p><h3>Accessible Meeting Notice Information</h3><p>This meeting/event location is accessible. Sign language interpreter service, assistive listening devices, materials in alternate format such as Braille, large print, electronic formats, or any other accommodations are available upon advance request. Please contact the Equity and Inclusion Director, Andrés Portela no later than two days before the meeting date at&nbsp;<a href="mailto:equity@bendoregon.gov?subject=equity@bendoregon.gov" id="equity@bendoregon.gov" title="equity@bendoregon.gov">equity@bendoregon.gov</a><b>&nbsp;</b>or call 541-323-8563; Relay Users Dial 7-1-1. Providing, at least, 3 days’ notice prior to the event will help ensure availability.</p><p><strong>Para solicitar copias en español de los documentas en esta página web o en un formato alternativo como Braille, letra grande, formatos electrónicos, etc.:</strong></p><p>Por favor contacte al Director de Equidad e Inclusión, Andrés Portela&nbsp;<a href="mailto:aportela@bendoregon.gov?subject=aportela@bendoregon.gov" id="aportela@bendoregon.gov" title="aportela@bendoregon.gov">aportela@bendoregon.gov</a>&nbsp;o llame al 541-323-8563. Los usuarios de retransmisión marquen el 7-1-1.</p><div></div><p><strong></strong></p><div></div><strong></strong><p>&nbsp;</p></div><div></div><div></div>
X-ALT-DESC;FMTTYPE=text/html:<div><h2>Hybrid Meeting Notice:</h2><p>The <a href="https://www.bendoregon.gov/government/committees/human-rights-and-equity-commission" target="_blank">Human Rights and Equity Commission</a>&nbsp;(HREC) conducts its meetings, virtually through Zoom and in person in Council Chambers at City Hall, 710 NW Wall Street; on&nbsp;<strong>Wednesday, March 27, 2024, from 4:30 to 6:30 p.m.</strong>, or watch the YouTube livestream.</p><p><a href="https://bend.granicus.com/GeneratedAgendaViewer.php?view_id=17&amp;event_id=1042" target="_blank">HREC March 27, 2024, Final Agenda</a>.</p><p><strong>To Attend by Computer, <a href="https://bendoregon-gov.zoom.us/webinar/register/WN_DBj0kIlWTo-b-DvVCdq9aw">Pre-Register</a>:&nbsp;</strong>You will receive an email confirmation with a personalized link information to connect via computer or phone.</p><p><strong>To Attend by Phone (No Pre-Registration Required):</strong></p><ul>    <li><strong>&nbsp;</strong><b>Dial Toll-Free:</b> 1-888-788-0099</li>    <li><b>Webinar ID: </b>810 9037 6090</li>    <li><b>Passcode if prompted:</b> 4732 (HREC)</li></ul><p><a href="https://youtube.com/live/r3KOgZoGU6E?feature=share" target="_blank" id="HREC March 27, 2024, regular meeting, live at 4:30 p.m."><b>HREC March 27, 2024, regular meeting, live at 4:30 p.m.</b></a></p><p><strong>Technical Difficulties Connecting to this Meeting:</strong>&nbsp;Call 541-410-9341.</p><p><b>Public Comment Section - Phone Users &amp; Pre-Registered Zoom Attendees, Two Minute Limit:</b></p><p>Toggle *(Star) nine to raise/lower hand, and *(Star) six to mute/unmute yourself. The host will enable the raise/lower hand and mute/unmute during the public comment sections only, then disable this ability/function. For additional input about this meeting, please email Equity and Inclusion Director: <a href="mailto:aportela@bendoregon.gov?subject=aportela@bendoregon.gov" id="aportela@bendoregon.gov" title="aportela@bendoregon.gov">Andrés Portela</a>.</p><p>For additional information, please contact the Equity and Inclusion Director // HREC Staff Liaison Andrés Portela (He, Him), at&nbsp;<a href="mailto:aportela@bendoregon.gov?subject=aportela@bendoregon.gov" id="aportela@bendoregon.gov" title="aportela@bendoregon.gov">aportela@bendoregon.gov</a>&nbsp;or call 541-323-8563.</p><h3>Accessible Meeting Notice Information</h3><p>This meeting/event location is accessible. Sign language interpreter service, assistive listening devices, materials in alternate format such as Braille, large print, electronic formats, or any other accommodations are available upon advance request. Please contact the Equity and Inclusion Director, Andrés Portela no later than two days before the meeting date at&nbsp;<a href="mailto:equity@bendoregon.gov?subject=equity@bendoregon.gov" id="equity@bendoregon.gov" title="equity@bendoregon.gov">equity@bendoregon.gov</a><b>&nbsp;</b>or call 541-323-8563; Relay Users Dial 7-1-1. Providing, at least, 3 days’ notice prior to the event will help ensure availability.</p><p><strong>Para solicitar copias en español de los documentas en esta página web o en un formato alternativo como Braille, letra grande, formatos electrónicos, etc.:</strong></p><p>Por favor contacte al Director de Equidad e Inclusión, Andrés Portela&nbsp;<a href="mailto:aportela@bendoregon.gov?subject=aportela@bendoregon.gov" id="aportela@bendoregon.gov" title="aportela@bendoregon.gov">aportela@bendoregon.gov</a>&nbsp;o llame al 541-323-8563. Los usuarios de retransmisión marquen el 7-1-1.</p><div></div><p><strong></strong></p><div></div><strong></strong><p>&nbsp;</p></div><div></div><div></div>
LOCATION:Council Chambers (City Hall)\, 710 NW Wall St Bend\, Oregon 97703
CLASS:PUBLIC
END:VEVENT
END:VCALENDAR
