BEGIN:VCALENDAR
VERSION:2.0
PRODID:City of Bend Calendar Creator
METHOD:PUBLISH
BEGIN:VEVENT
DTSTAMP:20240418T122200
DTSTART:20240424T163000
DTEND:20240424T183000
SUMMARY:Human Rights and Equity Commission Hybrid Meeting
DESCRIPTION:<h2>Hybrid Meeting Notice:</h2><p>The <a href="https://www.bendoregon.gov/government/committees/human-rights-and-equity-commission" target="_blank">Human Rights and Equity Commission</a>&nbsp;(HREC) conducts its meetings, virtually through Zoom and in person in Council Chambers at City Hall, 710 NW Wall Street; on&nbsp;<strong>Wednesday, April 24, 2024, from 4:30 to 6:30 p.m.</strong>, or watch the YouTube livestream.</p><p><a href="https://bend.granicus.com/GeneratedAgendaViewer.php?view_id=17&amp;event_id=1045" target="_blank">HREC April 24, 2024, Agenda</a></p><p><strong>To Attend by Computer; </strong><a href="https://bendoregon-gov.zoom.us/webinar/register/WN_5Aw8d_4zS2KTz09G00LLgg " target="_blank" id="Pre-Register"><b>Pre-Register</b></a><strong>: </strong>You will receive an email confirmation with a personal link/information to connect via computer or phone.</p><p><strong>To </strong><strong>Attend</strong><strong> by Phone (No Pre-Registering Required):</strong><strong></strong></p><ul>    <li>    <p><strong>Dial Toll-Free:</strong> 1-888-788-0099</p>    </li>    <li>    <p><strong>Webinar ID:</strong>&nbsp;878 6865 3961 ##</p>    </li>    <li>    <p><strong>Passcode if prompted:</strong>&nbsp;4732 (HREC)</p>    </li></ul><p><p><b><a href="https://youtube.com/live/X0SCLPQ_jk8?feature=share" target="_blank">HREC April 24, 2024, live at 4:30 p.m.</a></b></p></p><p><strong>Technical Difficulties Connecting to this Meeting:</strong>&nbsp;Call 541-410-9341.</p><h2><em>Please Note: Updated comment information for this meeting.</em></h2><p><b><b>Public Comment Section for In Person, Phone Users, and Pre-Registered Attendees:&nbsp;</b></b>Public comment will not be facilitated during this session. However, we encourage you to submit written statements before the meeting. These submissions will be acknowledged during our proceedings, ensuring that community voices are both heard and honored by the Human Rights and Equity Commission. Please email your comments by noon on April 24, 2024, at noon, to the Equity and Inclusion Director Andrés Portela He, Him: <a href="mailto:equity@bendoregon.gov?subject=equity@bendoregon.gov" id="equity@bendoregon.gov" title="equity@bendoregon.gov">equity@bendoregon.gov</a>.</p><p>For additional information, please contact the Equity and Inclusion Director&nbsp;// HREC Staff Liaison&nbsp;Andrés Portela (He, Him), at <a href="mailto:aportela@bendoregon.gov?subject=aportela@bendoregon.gov" id="aportela@bendoregon.gov" title="aportela@bendoregon.gov">aportela@bendoregon.gov</a>&nbsp;or call 541-323-8563.</p><h3>Accessible Meeting Notice Information</h3><p>This meeting/event location is accessible. Sign language interpreter service, assistive listening devices, materials in alternate format such as Braille, large print, electronic formats, or any other accommodations are available upon advance request. Please contact the Equity and Inclusion Department no later than two days before the meeting date at&nbsp;<a href="mailto:equity@bendoregon.gov?subject=equity@bendoregon.gov" id="equity@bendoregon.gov" title="equity@bendoregon.gov">equity@bendoregon.gov</a><b>&nbsp;</b>or call 541-323-8563; Relay Users Dial 7-1-1. Providing, at least, 3 days’ notice prior to the event will help ensure availability.</p><p><strong>Para solicitar copias en español de los documentas en esta página web o en un formato alternativo como Braille, letra grande, formatos electrónicos, etc.:</strong></p><p>Por favor contacte al Director de Equidad e Inclusión, Andrés Portela&nbsp;<a href="mailto:aportela@bendoregon.gov?subject=aportela@bendoregon.gov" id="aportela@bendoregon.gov" title="aportela@bendoregon.gov">aportela@bendoregon.gov</a>&nbsp;o llame al 541-323-8563. Los usuarios de retransmisión marquen el 7-1-1.</p>
X-ALT-DESC;FMTTYPE=text/html:<h2>Hybrid Meeting Notice:</h2><p>The <a href="https://www.bendoregon.gov/government/committees/human-rights-and-equity-commission" target="_blank">Human Rights and Equity Commission</a>&nbsp;(HREC) conducts its meetings, virtually through Zoom and in person in Council Chambers at City Hall, 710 NW Wall Street; on&nbsp;<strong>Wednesday, April 24, 2024, from 4:30 to 6:30 p.m.</strong>, or watch the YouTube livestream.</p><p><a href="https://bend.granicus.com/GeneratedAgendaViewer.php?view_id=17&amp;event_id=1045" target="_blank">HREC April 24, 2024, Agenda</a></p><p><strong>To Attend by Computer; </strong><a href="https://bendoregon-gov.zoom.us/webinar/register/WN_5Aw8d_4zS2KTz09G00LLgg " target="_blank" id="Pre-Register"><b>Pre-Register</b></a><strong>: </strong>You will receive an email confirmation with a personal link/information to connect via computer or phone.</p><p><strong>To </strong><strong>Attend</strong><strong> by Phone (No Pre-Registering Required):</strong><strong></strong></p><ul>    <li>    <p><strong>Dial Toll-Free:</strong> 1-888-788-0099</p>    </li>    <li>    <p><strong>Webinar ID:</strong>&nbsp;878 6865 3961 ##</p>    </li>    <li>    <p><strong>Passcode if prompted:</strong>&nbsp;4732 (HREC)</p>    </li></ul><p><p><b><a href="https://youtube.com/live/X0SCLPQ_jk8?feature=share" target="_blank">HREC April 24, 2024, live at 4:30 p.m.</a></b></p></p><p><strong>Technical Difficulties Connecting to this Meeting:</strong>&nbsp;Call 541-410-9341.</p><h2><em>Please Note: Updated comment information for this meeting.</em></h2><p><b><b>Public Comment Section for In Person, Phone Users, and Pre-Registered Attendees:&nbsp;</b></b>Public comment will not be facilitated during this session. However, we encourage you to submit written statements before the meeting. These submissions will be acknowledged during our proceedings, ensuring that community voices are both heard and honored by the Human Rights and Equity Commission. Please email your comments by noon on April 24, 2024, at noon, to the Equity and Inclusion Director Andrés Portela He, Him: <a href="mailto:equity@bendoregon.gov?subject=equity@bendoregon.gov" id="equity@bendoregon.gov" title="equity@bendoregon.gov">equity@bendoregon.gov</a>.</p><p>For additional information, please contact the Equity and Inclusion Director&nbsp;// HREC Staff Liaison&nbsp;Andrés Portela (He, Him), at <a href="mailto:aportela@bendoregon.gov?subject=aportela@bendoregon.gov" id="aportela@bendoregon.gov" title="aportela@bendoregon.gov">aportela@bendoregon.gov</a>&nbsp;or call 541-323-8563.</p><h3>Accessible Meeting Notice Information</h3><p>This meeting/event location is accessible. Sign language interpreter service, assistive listening devices, materials in alternate format such as Braille, large print, electronic formats, or any other accommodations are available upon advance request. Please contact the Equity and Inclusion Department no later than two days before the meeting date at&nbsp;<a href="mailto:equity@bendoregon.gov?subject=equity@bendoregon.gov" id="equity@bendoregon.gov" title="equity@bendoregon.gov">equity@bendoregon.gov</a><b>&nbsp;</b>or call 541-323-8563; Relay Users Dial 7-1-1. Providing, at least, 3 days’ notice prior to the event will help ensure availability.</p><p><strong>Para solicitar copias en español de los documentas en esta página web o en un formato alternativo como Braille, letra grande, formatos electrónicos, etc.:</strong></p><p>Por favor contacte al Director de Equidad e Inclusión, Andrés Portela&nbsp;<a href="mailto:aportela@bendoregon.gov?subject=aportela@bendoregon.gov" id="aportela@bendoregon.gov" title="aportela@bendoregon.gov">aportela@bendoregon.gov</a>&nbsp;o llame al 541-323-8563. Los usuarios de retransmisión marquen el 7-1-1.</p>
LOCATION:Council Chambers (City Hall)\, 710 NW Wall St Bend\, Oregon 97703
CLASS:PUBLIC
END:VEVENT
END:VCALENDAR
