BEGIN:VCALENDAR
VERSION:2.0
PRODID:City of Bend Calendar Creator
METHOD:PUBLISH
BEGIN:VEVENT
DTSTAMP:20240625T151319
DTSTART:20240626T163000
DTEND:20240626T183000
SUMMARY:CANCELED: Human Rights and Equity Commission Hybrid Meeting
DESCRIPTION:<h1>Notification of Canceled Meeting:</h1><h3>June 26, 2024, Human Rights and Equity Commission Meeting is canceled.</h3><p>To all members, stakeholders of the Human Rights and Equity Commission, and Community Members:</p><p>The scheduled meeting of the HREC on June 26th has been canceled due to the anticipated absence of enough commission members to establish a quorum. This decision aligns with our governance policies, which require at least members present to conduct official business.</p><p>We apologize for any inconvenience this may cause and appreciate your understanding. The commission values your commitment and looks forward to your participation at the next scheduled meeting on July 31<sup>st</sup>, where we will continue our efforts to review the work and discuss the next steps for our work.</p><p>For any inquiries or further assistance, please contact Andrés Portela He/Him/El, <a href="mailto:&#97;&#112;&#111;&#114;&#116;&#101;&#108;&#97;&#64;&#98;&#101;&#110;&#100;&#111;&#114;&#101;&#103;&#111;&#110;&#46;&#103;&#111;&#118;">aportela@bendoregon.gov</a>.</p><p>Thank you for your continued support and dedication to the mission of the HREC.</p><p>With much appreciation,</p><p>The Equity Department</p><p><a href="https://bendoregon.prod-as.govaccess.org/home/showpublisheddocument/59392/638549251367630000" target="_blank">HREC June 26, 2024, Notification of Canceled Meeting.pdf</a></p><p><strong>For additional information:</strong> please contact the Equity and Inclusion Director (He, Him), at&nbsp;<a href="mailto:aportela@bendoregon.gov?subject=aportela@bendoregon.gov" id="aportela@bendoregon.gov" title="aportela@bendoregon.gov">aportela@bendoregon.gov</a>&nbsp;or call 541-323-8563.</p><h3>Accessible Meeting Notice Information</h3><p>This meeting/event location is accessible. Sign language interpreter service, assistive listening devices, materials in alternate format such as Braille, large print, electronic formats, or any other accommodations are available upon advance request. Please contact the Equity and Inclusion Department no later than two days before the meeting date at&nbsp;<a href="mailto:equity@bendoregon.gov?subject=equity@bendoregon.gov" id="equity@bendoregon.gov" title="equity@bendoregon.gov">equity@bendoregon.gov</a><b>&nbsp;</b>or call 541-323-8563; Relay Users Dial 7-1-1. Providing, at least, 3 days’ notice prior to the event will help ensure availability.</p><p><strong>Para solicitar copias en español de los documentas en esta página web o en un formato alternativo como Braille, letra grande, formatos electrónicos, etc.:</strong></p><p>Por favor contacte al Director de Equidad e Inclusión, Andrés Portela&nbsp;<a href="mailto:aportela@bendoregon.gov?subject=aportela@bendoregon.gov" id="aportela@bendoregon.gov" title="aportela@bendoregon.gov">aportela@bendoregon.gov</a>&nbsp;o llame al 541-323-8563. Los usuarios de retransmisión marquen el 7-1-1.</p>
X-ALT-DESC;FMTTYPE=text/html:<h1>Notification of Canceled Meeting:</h1><h3>June 26, 2024, Human Rights and Equity Commission Meeting is canceled.</h3><p>To all members, stakeholders of the Human Rights and Equity Commission, and Community Members:</p><p>The scheduled meeting of the HREC on June 26th has been canceled due to the anticipated absence of enough commission members to establish a quorum. This decision aligns with our governance policies, which require at least members present to conduct official business.</p><p>We apologize for any inconvenience this may cause and appreciate your understanding. The commission values your commitment and looks forward to your participation at the next scheduled meeting on July 31<sup>st</sup>, where we will continue our efforts to review the work and discuss the next steps for our work.</p><p>For any inquiries or further assistance, please contact Andrés Portela He/Him/El, <a href="mailto:&#97;&#112;&#111;&#114;&#116;&#101;&#108;&#97;&#64;&#98;&#101;&#110;&#100;&#111;&#114;&#101;&#103;&#111;&#110;&#46;&#103;&#111;&#118;">aportela@bendoregon.gov</a>.</p><p>Thank you for your continued support and dedication to the mission of the HREC.</p><p>With much appreciation,</p><p>The Equity Department</p><p><a href="https://bendoregon.prod-as.govaccess.org/home/showpublisheddocument/59392/638549251367630000" target="_blank">HREC June 26, 2024, Notification of Canceled Meeting.pdf</a></p><p><strong>For additional information:</strong> please contact the Equity and Inclusion Director (He, Him), at&nbsp;<a href="mailto:aportela@bendoregon.gov?subject=aportela@bendoregon.gov" id="aportela@bendoregon.gov" title="aportela@bendoregon.gov">aportela@bendoregon.gov</a>&nbsp;or call 541-323-8563.</p><h3>Accessible Meeting Notice Information</h3><p>This meeting/event location is accessible. Sign language interpreter service, assistive listening devices, materials in alternate format such as Braille, large print, electronic formats, or any other accommodations are available upon advance request. Please contact the Equity and Inclusion Department no later than two days before the meeting date at&nbsp;<a href="mailto:equity@bendoregon.gov?subject=equity@bendoregon.gov" id="equity@bendoregon.gov" title="equity@bendoregon.gov">equity@bendoregon.gov</a><b>&nbsp;</b>or call 541-323-8563; Relay Users Dial 7-1-1. Providing, at least, 3 days’ notice prior to the event will help ensure availability.</p><p><strong>Para solicitar copias en español de los documentas en esta página web o en un formato alternativo como Braille, letra grande, formatos electrónicos, etc.:</strong></p><p>Por favor contacte al Director de Equidad e Inclusión, Andrés Portela&nbsp;<a href="mailto:aportela@bendoregon.gov?subject=aportela@bendoregon.gov" id="aportela@bendoregon.gov" title="aportela@bendoregon.gov">aportela@bendoregon.gov</a>&nbsp;o llame al 541-323-8563. Los usuarios de retransmisión marquen el 7-1-1.</p>
LOCATION:Council Chambers (City Hall)\, 710 NW Wall St Bend\, Oregon 97703
CLASS:PUBLIC
END:VEVENT
END:VCALENDAR
