BEGIN:VCALENDAR
VERSION:2.0
PRODID:City of Bend Calendar Creator
METHOD:PUBLISH
BEGIN:VEVENT
DTSTAMP:20240729T134752
DTSTART:20240731T163000
DTEND:20240731T183000
SUMMARY:Human Rights and Equity Commission Meeting
DESCRIPTION:<h2>Hybrid Meeting Notice:</h2><p>The <a href="https://www.bendoregon.gov/government/committees/human-rights-and-equity-commission" target="_blank">Human Rights and Equity Commission</a>&nbsp;(HREC) conducts its meetings, virtually through Zoom and in person in Council Chambers at City Hall, 710 NW Wall Street; on&nbsp;<strong>Wednesday, July 31, 2024, from 4:30 to 6:30 p.m.</strong>, or watch the YouTube livestream.</p><p>The <a href="https://bend.granicus.com/GeneratedAgendaViewer.php?view_id=17&amp;event_id=1061" target="_blank">HREC July 31, 2024, Agenda</a>.</p><p><strong>To Attend by Computer,</strong> <a href="https://bendoregon-gov.zoom.us/webinar/register/WN_1cUF0o__Q_eu5w8g13PjWA" target="_blank"><b>Pre-Register</b></a><strong>: </strong>You will receive an email confirmation with a personalized link with information to connect via computer or phone.</p><p><strong>To Attend by Phone (No Pre-Registration Required):</strong></p><ul>    <li><b>Dial Toll-Free:</b>&nbsp;888-788-0099</li>    <li><strong>Webinar ID:&nbsp;</strong>859 5103 3439 # #</li>    <li>    <p><b>Passcode if prompted:</b> 4732 (HREC)</p>    </li></ul><p><b><a href="https://youtube.com/live/poFKwiZphAo?feature=share" target="_blank">HREC July 31, 2024, regular meeting, live at 4:30 p.m.</a></b></p><p>Public Comment Section for Phone Users, and Pre-Registered Attendees:</p><p>Public comments are limited to two minutes per person for a 10-minutes. For additional input about this meeting, please email the Equity and Inclusion Director Andrés Portela He, Him: <a href="mailto:&#101;&#113;&#117;&#105;&#116;&#121;&#64;&#98;&#101;&#110;&#100;&#111;&#114;&#101;&#103;&#111;&#110;&#46;&#103;&#111;&#118;">equity@bendoregon.gov</a>.</p><p>Toggle *(Star) nine to raise/lower hand, and *(Star) six to mute/unmute yourself. The host will enable the raise/lower hand and mute/unmute during the public comment sections only, then disable this ability/function. For additional input about this meeting, please email the Equity and Inclusion Director, Andrés Portela at <a href="mailto:equity@bendoregon.gov?subject=equity@bendoregon.gov" id="equity@bendoregon.gov" title="equity@bendoregon.gov">equity@bendoregon.gov</a>.</p><p><strong>Technical Difficulties Connecting to this Meeting:</strong>&nbsp;Call 541-410-9341.</p><p>For additional information, please contact the Equity and Inclusion Director, Andrés Portela at&nbsp;<a href="mailto:aportela@bendoregon.gov?subject=aportela@bendoregon.gov" id="aportela@bendoregon.gov" title="aportela@bendoregon.gov">aportela@bendoregon.gov</a>&nbsp;or call 541-323-8563.</p><h3>Accessible Meeting Notice Information</h3><p>This meeting/event location is accessible. Sign language interpreter service, assistive listening devices, materials in alternate format such as Braille, large print, electronic formats, or any other accommodations are available upon advance request. Please contact the Equity and Inclusion Department, no later than two days before the meeting date at&nbsp;<a href="mailto:equity@bendoregon.gov?subject=equity@bendoregon.gov" id="equity@bendoregon.gov" title="equity@bendoregon.gov">equity@bendoregon.gov</a><b>&nbsp;</b>or call 541-323-8563; Relay Users Dial 7-1-1. Providing, at least, 3 days’ notice prior to the event will help ensure availability.</p><p><strong>Para solicitar copias en español de los documentas en esta página web o en un formato alternativo como Braille, letra grande, formatos electrónicos, etc.:</strong></p><p>Por favor contacte al Director de Equidad e Inclusión, Andrés Portela&nbsp;<a href="mailto:aportela@bendoregon.gov?subject=aportela@bendoregon.gov" id="aportela@bendoregon.gov" title="aportela@bendoregon.gov">aportela@bendoregon.gov</a>&nbsp;o llame al 541-323-8563. Los usuarios de retransmisión marquen el 7-1-1.</p>
X-ALT-DESC;FMTTYPE=text/html:<h2>Hybrid Meeting Notice:</h2><p>The <a href="https://www.bendoregon.gov/government/committees/human-rights-and-equity-commission" target="_blank">Human Rights and Equity Commission</a>&nbsp;(HREC) conducts its meetings, virtually through Zoom and in person in Council Chambers at City Hall, 710 NW Wall Street; on&nbsp;<strong>Wednesday, July 31, 2024, from 4:30 to 6:30 p.m.</strong>, or watch the YouTube livestream.</p><p>The <a href="https://bend.granicus.com/GeneratedAgendaViewer.php?view_id=17&amp;event_id=1061" target="_blank">HREC July 31, 2024, Agenda</a>.</p><p><strong>To Attend by Computer,</strong> <a href="https://bendoregon-gov.zoom.us/webinar/register/WN_1cUF0o__Q_eu5w8g13PjWA" target="_blank"><b>Pre-Register</b></a><strong>: </strong>You will receive an email confirmation with a personalized link with information to connect via computer or phone.</p><p><strong>To Attend by Phone (No Pre-Registration Required):</strong></p><ul>    <li><b>Dial Toll-Free:</b>&nbsp;888-788-0099</li>    <li><strong>Webinar ID:&nbsp;</strong>859 5103 3439 # #</li>    <li>    <p><b>Passcode if prompted:</b> 4732 (HREC)</p>    </li></ul><p><b><a href="https://youtube.com/live/poFKwiZphAo?feature=share" target="_blank">HREC July 31, 2024, regular meeting, live at 4:30 p.m.</a></b></p><p>Public Comment Section for Phone Users, and Pre-Registered Attendees:</p><p>Public comments are limited to two minutes per person for a 10-minutes. For additional input about this meeting, please email the Equity and Inclusion Director Andrés Portela He, Him: <a href="mailto:&#101;&#113;&#117;&#105;&#116;&#121;&#64;&#98;&#101;&#110;&#100;&#111;&#114;&#101;&#103;&#111;&#110;&#46;&#103;&#111;&#118;">equity@bendoregon.gov</a>.</p><p>Toggle *(Star) nine to raise/lower hand, and *(Star) six to mute/unmute yourself. The host will enable the raise/lower hand and mute/unmute during the public comment sections only, then disable this ability/function. For additional input about this meeting, please email the Equity and Inclusion Director, Andrés Portela at <a href="mailto:equity@bendoregon.gov?subject=equity@bendoregon.gov" id="equity@bendoregon.gov" title="equity@bendoregon.gov">equity@bendoregon.gov</a>.</p><p><strong>Technical Difficulties Connecting to this Meeting:</strong>&nbsp;Call 541-410-9341.</p><p>For additional information, please contact the Equity and Inclusion Director, Andrés Portela at&nbsp;<a href="mailto:aportela@bendoregon.gov?subject=aportela@bendoregon.gov" id="aportela@bendoregon.gov" title="aportela@bendoregon.gov">aportela@bendoregon.gov</a>&nbsp;or call 541-323-8563.</p><h3>Accessible Meeting Notice Information</h3><p>This meeting/event location is accessible. Sign language interpreter service, assistive listening devices, materials in alternate format such as Braille, large print, electronic formats, or any other accommodations are available upon advance request. Please contact the Equity and Inclusion Department, no later than two days before the meeting date at&nbsp;<a href="mailto:equity@bendoregon.gov?subject=equity@bendoregon.gov" id="equity@bendoregon.gov" title="equity@bendoregon.gov">equity@bendoregon.gov</a><b>&nbsp;</b>or call 541-323-8563; Relay Users Dial 7-1-1. Providing, at least, 3 days’ notice prior to the event will help ensure availability.</p><p><strong>Para solicitar copias en español de los documentas en esta página web o en un formato alternativo como Braille, letra grande, formatos electrónicos, etc.:</strong></p><p>Por favor contacte al Director de Equidad e Inclusión, Andrés Portela&nbsp;<a href="mailto:aportela@bendoregon.gov?subject=aportela@bendoregon.gov" id="aportela@bendoregon.gov" title="aportela@bendoregon.gov">aportela@bendoregon.gov</a>&nbsp;o llame al 541-323-8563. Los usuarios de retransmisión marquen el 7-1-1.</p>
LOCATION:Council Chambers (City Hall)\, 710 NW Wall St Bend\, Oregon 97703
CLASS:PUBLIC
END:VEVENT
END:VCALENDAR
