BEGIN:VCALENDAR
VERSION:2.0
PRODID:City of Bend Calendar Creator
METHOD:PUBLISH
BEGIN:VEVENT
DTSTAMP:20241209T213758
DTSTART:20241211T163000
DTEND:20241211T174500
SUMMARY:Alternate Date, Length & Venue Change: Human Rights and Equity Commission Hybrid Meeting
DESCRIPTION:<h2>Hybrid Meeting Notice (Alternate Date, Length, &amp; Venue Change):</h2><p>The <a href="https://www.bendoregon.gov/government/committees/human-rights-and-equity-commission" target="_blank"><strong>Human Rights and Equity Commission</strong></a>&nbsp;(HREC)conducts its meetings, virtually through Zoom and in person in the <em><strong>Boardroom</strong></em>, at City Hall, 710 NW Wall Street; on&nbsp;<strong>Wednesday, December 11, 2024, from 4:30 to 5:45 p.m. </strong>Alternate date and venue change or watch the YouTube livestream.</p><p><a href="https://bend.granicus.com/GeneratedAgendaViewer.php?view_id=17&amp;event_id=1087" target="_blank" id="The HREC December 11th, 2024, Agenda"><b>The HREC December 11, 2024, Agenda</b></a>.</p><p><strong>To Attend by Computer,</strong>&nbsp;<strong><a href="https://bendoregon-gov.zoom.us/webinar/register/WN_swGn4uHxSVSWtXMI-UTPAQ" target="_blank">Pre-Register</a></strong>: You will receive an email confirmation with a personal link with information to connect via computer or phone.</p><p><strong>To Attend by Phone (No Pre-Registration Required):</strong></p><ul>    <li><strong></strong>    <p><strong>Dial Toll-Free: </strong>1-888-788-0099</p>    </li>    <li>    <p><strong>Webinar ID:</strong><strong> </strong>893 0719 9746</p>    </li>    <li>    <p><strong>Passcode, if prompted:</strong> 4732 (HREC)</p>    </li></ul><p><strong>Technical Difficulties Connecting to this Meeting:</strong>&nbsp;Call 541-410-9341.</p><p><strong>For Additional Information:</strong>&nbsp;Please call the Equity and Inclusion Director // HREC Staff Liaison, Andrés Portela, He/Him/El, at 541-323-8563, or email<strong> </strong><a href="mailto:aportela@bendoregon.gov?subject=aportela@bendoregon.gov" id="aportela@bendoregon.gov" title="aportela@bendoregon.gov"><b>aportela@bendoregon.gov</b></a><strong>.</strong></p><h3>Accessible Meeting Notice Information</h3><p>This meeting/event location is accessible. Sign language interpreter service, assistive listening devices, materials in alternate format such as Braille, large print, electronic formats, or any other accommodations are available upon advance request. Please contact the Accessibility and Equity Program no later than two days before the meeting date at&nbsp;<a href="mailto:accessibility@bendoregon.gov?subject=accessibility@bendoregon.gov" id="accessibility@bendoregon.gov" title="accessibility@bendoregon.gov"><strong>accessibility@bendoregon.gov</strong></a><b>&nbsp;</b>or call 541-693-2141; Relay Users Dial 7-1-1. Providing, at least, 3 days’ notice prior to the event will help ensure availability.</p><p><strong>Para solicitar copias en español de los documentas en esta página web o en un formato alternativo como Braille, letra grande, formatos electrónicos, etc.:</strong></p><p>Por favor contacte al Director de Equidad e Inclusión, Andrés Portela&nbsp;<a href="mailto:aportela@bendoregon.gov?subject=aportela@bendoregon.gov" id="aportela@bendoregon.gov" title="aportela@bendoregon.gov"><strong>aportela@bendoregon.gov</strong></a>&nbsp;o llame al 541-323-8563. Los usuarios de retransmisión marquen el 7-1-1.</p>
X-ALT-DESC;FMTTYPE=text/html:<h2>Hybrid Meeting Notice (Alternate Date, Length, &amp; Venue Change):</h2><p>The <a href="https://www.bendoregon.gov/government/committees/human-rights-and-equity-commission" target="_blank"><strong>Human Rights and Equity Commission</strong></a>&nbsp;(HREC)conducts its meetings, virtually through Zoom and in person in the <em><strong>Boardroom</strong></em>, at City Hall, 710 NW Wall Street; on&nbsp;<strong>Wednesday, December 11, 2024, from 4:30 to 5:45 p.m. </strong>Alternate date and venue change or watch the YouTube livestream.</p><p><a href="https://bend.granicus.com/GeneratedAgendaViewer.php?view_id=17&amp;event_id=1087" target="_blank" id="The HREC December 11th, 2024, Agenda"><b>The HREC December 11, 2024, Agenda</b></a>.</p><p><strong>To Attend by Computer,</strong>&nbsp;<strong><a href="https://bendoregon-gov.zoom.us/webinar/register/WN_swGn4uHxSVSWtXMI-UTPAQ" target="_blank">Pre-Register</a></strong>: You will receive an email confirmation with a personal link with information to connect via computer or phone.</p><p><strong>To Attend by Phone (No Pre-Registration Required):</strong></p><ul>    <li><strong></strong>    <p><strong>Dial Toll-Free: </strong>1-888-788-0099</p>    </li>    <li>    <p><strong>Webinar ID:</strong><strong> </strong>893 0719 9746</p>    </li>    <li>    <p><strong>Passcode, if prompted:</strong> 4732 (HREC)</p>    </li></ul><p><strong>Technical Difficulties Connecting to this Meeting:</strong>&nbsp;Call 541-410-9341.</p><p><strong>For Additional Information:</strong>&nbsp;Please call the Equity and Inclusion Director // HREC Staff Liaison, Andrés Portela, He/Him/El, at 541-323-8563, or email<strong> </strong><a href="mailto:aportela@bendoregon.gov?subject=aportela@bendoregon.gov" id="aportela@bendoregon.gov" title="aportela@bendoregon.gov"><b>aportela@bendoregon.gov</b></a><strong>.</strong></p><h3>Accessible Meeting Notice Information</h3><p>This meeting/event location is accessible. Sign language interpreter service, assistive listening devices, materials in alternate format such as Braille, large print, electronic formats, or any other accommodations are available upon advance request. Please contact the Accessibility and Equity Program no later than two days before the meeting date at&nbsp;<a href="mailto:accessibility@bendoregon.gov?subject=accessibility@bendoregon.gov" id="accessibility@bendoregon.gov" title="accessibility@bendoregon.gov"><strong>accessibility@bendoregon.gov</strong></a><b>&nbsp;</b>or call 541-693-2141; Relay Users Dial 7-1-1. Providing, at least, 3 days’ notice prior to the event will help ensure availability.</p><p><strong>Para solicitar copias en español de los documentas en esta página web o en un formato alternativo como Braille, letra grande, formatos electrónicos, etc.:</strong></p><p>Por favor contacte al Director de Equidad e Inclusión, Andrés Portela&nbsp;<a href="mailto:aportela@bendoregon.gov?subject=aportela@bendoregon.gov" id="aportela@bendoregon.gov" title="aportela@bendoregon.gov"><strong>aportela@bendoregon.gov</strong></a>&nbsp;o llame al 541-323-8563. Los usuarios de retransmisión marquen el 7-1-1.</p>
LOCATION:Boardroom (City Hall)\, 710 NW Wall St Bend\, Oregon 97703
CLASS:PUBLIC
END:VEVENT
END:VCALENDAR
