BEGIN:VCALENDAR
VERSION:2.0
PRODID:City of Bend Calendar Creator
METHOD:PUBLISH
BEGIN:VEVENT
DTSTAMP:20240105T124540
DTSTART:20240109T100000
DTEND:20240109T120000
SUMMARY:Bend MPO Technical Advisory Committee Meeting
DESCRIPTION:<p>The agenda is available on the&nbsp;<strong><a href="https://bendoregon.prod-as.govaccess.org/government/departments/bend-metro-planning-organization/mpo-technical-advisory-committee">MPO Technical Advisory Committee website</a></strong>&nbsp;prior to the meeting date.</p><p><strong><a href="https://bendoregon-gov.zoom.us/j/89713802756?pwd=b0NiWWdHMVNaajRBQkFiL001M2QvUT09" target="_blank">Webinar Link - Zoom</a></strong></p><ul>    <li><strong>Webinar ID:</strong> 897 1380 2756</li>    <li><strong>Passcode:</strong> bendmpo</li></ul><p><b>Phone Option:</b></p><ul>    <li><strong>Dial Toll-Free:</strong> 1-888-788-0099</li>    <li><strong>Webinar ID:</strong>&nbsp;897 1380 2756 # #&nbsp;<strong>&nbsp;</strong></li></ul><p><strong><a href="https://youtube.com/live/Wy8loObX_34?feature=share" target="_blank">YouTube Livestream Link</a></strong></p><p>&nbsp;</p><p>To&nbsp;get email notification for these meetings, submit a subscription request for Bend MPO Technical Advisory Committee event notifications through the&nbsp;<strong><a href="https://bendoregon.prod-as.govaccess.org/services/subscribe">Subscribe page</a></strong>.</p><div>Questions? Contact the&nbsp;<strong><a href="https://bendoregon.prod-as.govaccess.org/government/departments/bend-metro-planning-organization">Bend MPO Staff</a></strong>.</div><p>&nbsp;</p><p><strong>Accessible Meeting Information<br></strong>This meeting event/location is accessible. Sign language interpreter service, assistive listening devices, materials in alternate format such as Braille, large print, electronic formats, or any other accommodations are available upon advance request. Please contact Kelli Kennedy no later than 3 business days before the meeting date at&nbsp;<a href="mailto:&#107;&#107;&#101;&#110;&#110;&#101;&#100;&#121;&#64;&#98;&#101;&#110;&#100;&#111;&#114;&#101;&#103;&#111;&#110;&#46;&#103;&#111;&#118;"><strong>kkennedy@bendoregon.gov</strong></a>&nbsp;or 541-693-2122; Relay Users Dial 7-1-1. Providing at least 3 days' notice prior to the event will help ensure availability.</p>
X-ALT-DESC;FMTTYPE=text/html:<p>The agenda is available on the&nbsp;<strong><a href="https://bendoregon.prod-as.govaccess.org/government/departments/bend-metro-planning-organization/mpo-technical-advisory-committee">MPO Technical Advisory Committee website</a></strong>&nbsp;prior to the meeting date.</p><p><strong><a href="https://bendoregon-gov.zoom.us/j/89713802756?pwd=b0NiWWdHMVNaajRBQkFiL001M2QvUT09" target="_blank">Webinar Link - Zoom</a></strong></p><ul>    <li><strong>Webinar ID:</strong> 897 1380 2756</li>    <li><strong>Passcode:</strong> bendmpo</li></ul><p><b>Phone Option:</b></p><ul>    <li><strong>Dial Toll-Free:</strong> 1-888-788-0099</li>    <li><strong>Webinar ID:</strong>&nbsp;897 1380 2756 # #&nbsp;<strong>&nbsp;</strong></li></ul><p><strong><a href="https://youtube.com/live/Wy8loObX_34?feature=share" target="_blank">YouTube Livestream Link</a></strong></p><p>&nbsp;</p><p>To&nbsp;get email notification for these meetings, submit a subscription request for Bend MPO Technical Advisory Committee event notifications through the&nbsp;<strong><a href="https://bendoregon.prod-as.govaccess.org/services/subscribe">Subscribe page</a></strong>.</p><div>Questions? Contact the&nbsp;<strong><a href="https://bendoregon.prod-as.govaccess.org/government/departments/bend-metro-planning-organization">Bend MPO Staff</a></strong>.</div><p>&nbsp;</p><p><strong>Accessible Meeting Information<br></strong>This meeting event/location is accessible. Sign language interpreter service, assistive listening devices, materials in alternate format such as Braille, large print, electronic formats, or any other accommodations are available upon advance request. Please contact Kelli Kennedy no later than 3 business days before the meeting date at&nbsp;<a href="mailto:&#107;&#107;&#101;&#110;&#110;&#101;&#100;&#121;&#64;&#98;&#101;&#110;&#100;&#111;&#114;&#101;&#103;&#111;&#110;&#46;&#103;&#111;&#118;"><strong>kkennedy@bendoregon.gov</strong></a>&nbsp;or 541-693-2122; Relay Users Dial 7-1-1. Providing at least 3 days' notice prior to the event will help ensure availability.</p>
LOCATION:ODOT Region 4\, Building M\, Baney Conference Rm.\, 63055 N. Highway 97 Bend\, Oregon 97701
CLASS:PUBLIC
END:VEVENT
END:VCALENDAR
