BEGIN:VCALENDAR
VERSION:2.0
PRODID:City of Bend Calendar Creator
METHOD:PUBLISH
BEGIN:VEVENT
DTSTAMP:20240110T093741
DTSTART:20240110T150000
DTEND:20240110T170000
SUMMARY:Affordable Housing Advisory Committee (AHAC) Meeting
DESCRIPTION:<p><strong><strong><strong><strong><span style="color: rgb(255, 0, 0);">Due to current weather conditions, AHAC will meet virtually today only. Council Chambers will be closed.&nbsp; To attend the meeting virtually, please use the Zoom information below. Direct all questions to the Housing staff at <a href="mailto:housing@bendoregon.gov?subject=housing@bendoregon.gov" id="housing@bendoregon.gov" title="housing@bendoregon.gov">housing@bendoregon.gov</a>&nbsp;</span></strong></strong></strong></strong></p><p><strong><strong><strong><strong>This meeting will be held in City Hall Council Chambers and via Zoom</strong>.&nbsp;&nbsp;</strong>Meeting time is 3:00 - 5:00pm</strong></strong></p><p><strong><strong>Agenda</strong></strong></p><p>Public comments for this meeting will be accepted two ways.&nbsp;</p><ul>    <li>To comment live at the meeting, you&nbsp;<strong>must</strong>&nbsp;join the meeting&nbsp;via Zoom.&nbsp;</li>    <li>Or send comments to&nbsp;<a>dcook@bendoregon.gov</a>&nbsp;prior to&nbsp;12:00 pm&nbsp;on Wednesday, January 10, 2024. &nbsp;Comments will be shared with committee members.</li></ul><p>To join&nbsp;<b>via Computer</b>&nbsp;(Zoom) use the following link:<br><a href="https://bendoregon-gov.zoom.us/j/83500437658?pwd=UW9QelJlTGxWL29HUThSYkFTRzRlUT09" target="_blank">https://bendoregon-gov.zoom.us/j/83500437658?pwd=UW9QelJlTGxWL29HUThSYkFTRzRlUT09</a></p><table width="100%" cellspacing="0" cellpadding="0" border="0">    <tbody>        <tr>            <td valign="top" nowrap="">            </td>        </tr>    </tbody></table><p>Passcode (required):&nbsp;733778</p><p>Or you may<strong>&nbsp;call</strong>&nbsp;into the meeting and enter the Webinar ID.</p><p>Call (<strong>toll charges may apply</strong>):&nbsp; 1-888-788-0099 or 1-253-215-8782</p><p>&nbsp;&nbsp;&nbsp;&nbsp;&nbsp;&nbsp;&nbsp;&nbsp;&nbsp;&nbsp;&nbsp;&nbsp;&nbsp;&nbsp;&nbsp; Webinar ID:&nbsp;835 0043 7658 ##</p><p>To watch live or later via YouTube:&nbsp;&nbsp;<br><a href="https://nam11.safelinks.protection.outlook.com/?url=https%3A%2F%2Fyoutube.com%2Flive%2FyUKB-vTVXe8%3Ffeature%3Dshare&amp;data=05%7C01%7Cdcook%40bendoregon.gov%7C006606cfa6b147fc7b4308dbe625129d%7C1c15334815ef4708aebf1e25e57dc400%7C0%7C0%7C638356819142931248%7CUnknown%7CTWFpbGZsb3d8eyJWIjoiMC4wLjAwMDAiLCJQIjoiV2luMzIiLCJBTiI6Ik1haWwiLCJXVCI6Mn0%3D%7C3000%7C%7C%7C&amp;sdata=l4%2BFq58KEcQxeYveHUeBxGzBpJoLS0uncpKpSyXgOLM%3D&amp;reserved=0" target="_blank">https://youtube.com/live/yUKB-vTVXe8?feature=share</a></p><p>If you have&nbsp;<b>technical difficulties</b>&nbsp;connecting to the meeting, call 541-410-9341</p>
X-ALT-DESC;FMTTYPE=text/html:<p><strong><strong><strong><strong><span style="color: rgb(255, 0, 0);">Due to current weather conditions, AHAC will meet virtually today only. Council Chambers will be closed.&nbsp; To attend the meeting virtually, please use the Zoom information below. Direct all questions to the Housing staff at <a href="mailto:housing@bendoregon.gov?subject=housing@bendoregon.gov" id="housing@bendoregon.gov" title="housing@bendoregon.gov">housing@bendoregon.gov</a>&nbsp;</span></strong></strong></strong></strong></p><p><strong><strong><strong><strong>This meeting will be held in City Hall Council Chambers and via Zoom</strong>.&nbsp;&nbsp;</strong>Meeting time is 3:00 - 5:00pm</strong></strong></p><p><strong><strong>Agenda</strong></strong></p><p>Public comments for this meeting will be accepted two ways.&nbsp;</p><ul>    <li>To comment live at the meeting, you&nbsp;<strong>must</strong>&nbsp;join the meeting&nbsp;via Zoom.&nbsp;</li>    <li>Or send comments to&nbsp;<a>dcook@bendoregon.gov</a>&nbsp;prior to&nbsp;12:00 pm&nbsp;on Wednesday, January 10, 2024. &nbsp;Comments will be shared with committee members.</li></ul><p>To join&nbsp;<b>via Computer</b>&nbsp;(Zoom) use the following link:<br><a href="https://bendoregon-gov.zoom.us/j/83500437658?pwd=UW9QelJlTGxWL29HUThSYkFTRzRlUT09" target="_blank">https://bendoregon-gov.zoom.us/j/83500437658?pwd=UW9QelJlTGxWL29HUThSYkFTRzRlUT09</a></p><table width="100%" cellspacing="0" cellpadding="0" border="0">    <tbody>        <tr>            <td valign="top" nowrap="">            </td>        </tr>    </tbody></table><p>Passcode (required):&nbsp;733778</p><p>Or you may<strong>&nbsp;call</strong>&nbsp;into the meeting and enter the Webinar ID.</p><p>Call (<strong>toll charges may apply</strong>):&nbsp; 1-888-788-0099 or 1-253-215-8782</p><p>&nbsp;&nbsp;&nbsp;&nbsp;&nbsp;&nbsp;&nbsp;&nbsp;&nbsp;&nbsp;&nbsp;&nbsp;&nbsp;&nbsp;&nbsp; Webinar ID:&nbsp;835 0043 7658 ##</p><p>To watch live or later via YouTube:&nbsp;&nbsp;<br><a href="https://nam11.safelinks.protection.outlook.com/?url=https%3A%2F%2Fyoutube.com%2Flive%2FyUKB-vTVXe8%3Ffeature%3Dshare&amp;data=05%7C01%7Cdcook%40bendoregon.gov%7C006606cfa6b147fc7b4308dbe625129d%7C1c15334815ef4708aebf1e25e57dc400%7C0%7C0%7C638356819142931248%7CUnknown%7CTWFpbGZsb3d8eyJWIjoiMC4wLjAwMDAiLCJQIjoiV2luMzIiLCJBTiI6Ik1haWwiLCJXVCI6Mn0%3D%7C3000%7C%7C%7C&amp;sdata=l4%2BFq58KEcQxeYveHUeBxGzBpJoLS0uncpKpSyXgOLM%3D&amp;reserved=0" target="_blank">https://youtube.com/live/yUKB-vTVXe8?feature=share</a></p><p>If you have&nbsp;<b>technical difficulties</b>&nbsp;connecting to the meeting, call 541-410-9341</p>
LOCATION:Virtual meeting - see details below\, 
CLASS:PUBLIC
END:VEVENT
END:VCALENDAR
