BEGIN:VCALENDAR
VERSION:2.0
PRODID:City of Bend Calendar Creator
METHOD:PUBLISH
BEGIN:VEVENT
DTSTAMP:20240119T090819
DTSTART:20240119T120000
DTEND:20240119T140000
SUMMARY:Bend MPO Policy Board Meeting
DESCRIPTION:<p>The agenda is available on the&nbsp;<a href="https://bendoregon.prod-as.govaccess.org/government/departments/bend-metro-planning-organization/plans-and-programs/mpo-committees" target="_blank"><strong>Bend MPO Policy Board website</strong></a>&nbsp;prior to the meeting date.</p><p><strong><a href="https://bendoregon-gov.zoom.us/j/84488611070?pwd=L0o3K0dUOXVGZ1R1aWo3dFA4RzNuUT09" target="_blank">Webinar Link - Zoom</a></strong></p><ul>    <li><strong>Webinar ID:</strong>&nbsp;844 8861 1070</li>    <li><strong>Passcode:</strong> bmpo</li></ul><p><b>Phone Option:</b></p><ul>    <li><strong>Dial Toll-Free:</strong> 1-888-788-0099</li>    <li><strong>Webinar ID:</strong>&nbsp;844 8861 1070 # #&nbsp;<strong>&nbsp;</strong></li></ul><p><strong><a href="https://youtube.com/live/tnbMw8qoF40?feature=share" target="_blank">YouTube Livestream Link</a></strong></p><p>&nbsp;</p><p>To&nbsp;get email notification for these meetings, submit a subscription request for Bend MPO Policy Board event notifications through the&nbsp;<a href="https://bendoregon.prod-as.govaccess.org/services/subscribe" tabindex="-1" target="_blank"><strong>Subscribe page</strong></a>.</p><div>Questions? Contact the&nbsp;<a href="https://bendoregon.prod-as.govaccess.org/government/departments/bend-metro-planning-organization"><strong>Bend MPO staff</strong></a>.</div><p>&nbsp;</p><p><strong>Accessible Meeting Information<br></strong>This meeting/event location is accessible. Sign language interpreter service, assistive listening devices, materials in alternate format such as Braille, large print, electronic formats, or any other accommodations are available upon advance request. Please contact Kelli Kennedy no later than 3 business days prior to the event at <a href="mailto:&#107;&#107;&#101;&#110;&#110;&#101;&#100;&#121;&#64;&#98;&#101;&#110;&#100;&#111;&#114;&#101;&#103;&#111;&#110;&#46;&#103;&#111;&#118;"><strong>kkennedy@bendoregon.gov</strong></a> or 541-693-2122; Relay Users Dial 7-1-1. Providing at least 3 days' notice prior to the event will help ensure availability.</p>
X-ALT-DESC;FMTTYPE=text/html:<p>The agenda is available on the&nbsp;<a href="https://bendoregon.prod-as.govaccess.org/government/departments/bend-metro-planning-organization/plans-and-programs/mpo-committees" target="_blank"><strong>Bend MPO Policy Board website</strong></a>&nbsp;prior to the meeting date.</p><p><strong><a href="https://bendoregon-gov.zoom.us/j/84488611070?pwd=L0o3K0dUOXVGZ1R1aWo3dFA4RzNuUT09" target="_blank">Webinar Link - Zoom</a></strong></p><ul>    <li><strong>Webinar ID:</strong>&nbsp;844 8861 1070</li>    <li><strong>Passcode:</strong> bmpo</li></ul><p><b>Phone Option:</b></p><ul>    <li><strong>Dial Toll-Free:</strong> 1-888-788-0099</li>    <li><strong>Webinar ID:</strong>&nbsp;844 8861 1070 # #&nbsp;<strong>&nbsp;</strong></li></ul><p><strong><a href="https://youtube.com/live/tnbMw8qoF40?feature=share" target="_blank">YouTube Livestream Link</a></strong></p><p>&nbsp;</p><p>To&nbsp;get email notification for these meetings, submit a subscription request for Bend MPO Policy Board event notifications through the&nbsp;<a href="https://bendoregon.prod-as.govaccess.org/services/subscribe" tabindex="-1" target="_blank"><strong>Subscribe page</strong></a>.</p><div>Questions? Contact the&nbsp;<a href="https://bendoregon.prod-as.govaccess.org/government/departments/bend-metro-planning-organization"><strong>Bend MPO staff</strong></a>.</div><p>&nbsp;</p><p><strong>Accessible Meeting Information<br></strong>This meeting/event location is accessible. Sign language interpreter service, assistive listening devices, materials in alternate format such as Braille, large print, electronic formats, or any other accommodations are available upon advance request. Please contact Kelli Kennedy no later than 3 business days prior to the event at <a href="mailto:&#107;&#107;&#101;&#110;&#110;&#101;&#100;&#121;&#64;&#98;&#101;&#110;&#100;&#111;&#114;&#101;&#103;&#111;&#110;&#46;&#103;&#111;&#118;"><strong>kkennedy@bendoregon.gov</strong></a> or 541-693-2122; Relay Users Dial 7-1-1. Providing at least 3 days' notice prior to the event will help ensure availability.</p>
LOCATION:Wall Street Annex\, Growth Management Conference Rm.\, 709 NW Wall Street\, Suite 102 Bend\, Oregon 97703
CLASS:PUBLIC
END:VEVENT
END:VCALENDAR
