BEGIN:VCALENDAR
VERSION:2.0
PRODID:City of Bend Calendar Creator
METHOD:PUBLISH
BEGIN:VEVENT
DTSTAMP:20240209T145447
DTSTART:20240226T163000
DTEND:20240226T183000
SUMMARY:Transportation Fee Listening Session
DESCRIPTION:<strong></strong><p><b>More details available&nbsp;<a href="https://www.bendoregon.gov/government/city-council/city-council-meeting-agendas-video#Additional%20Meetings" target="_blank">here</a>.&nbsp;</b></p><p><b>To Attend by Computer:&nbsp;</b></p><p><b><a href="https://bendoregon-gov.zoom.us/webinar/register/WN_T9mXlOMkSBecs1fpgxytWg" target="_blank">Pre-register to attend Zoom meeting</a>&nbsp;</b></p><p>Join by phone, toll-charges may apply: 1-888-788-0099 or 1-253-215-8782</p><p>Meeting ID: 818 4238 0319</p><p><b>OR<em></em></b></p><p><b><a href="https://youtube.com/live/eWzWF4ZMHPM?feature=share" target="_blank">Live Stream the Transportation Fee Listening Session</a> </b></p>
X-ALT-DESC;FMTTYPE=text/html:<strong></strong><p><b>More details available&nbsp;<a href="https://www.bendoregon.gov/government/city-council/city-council-meeting-agendas-video#Additional%20Meetings" target="_blank">here</a>.&nbsp;</b></p><p><b>To Attend by Computer:&nbsp;</b></p><p><b><a href="https://bendoregon-gov.zoom.us/webinar/register/WN_T9mXlOMkSBecs1fpgxytWg" target="_blank">Pre-register to attend Zoom meeting</a>&nbsp;</b></p><p>Join by phone, toll-charges may apply: 1-888-788-0099 or 1-253-215-8782</p><p>Meeting ID: 818 4238 0319</p><p><b>OR<em></em></b></p><p><b><a href="https://youtube.com/live/eWzWF4ZMHPM?feature=share" target="_blank">Live Stream the Transportation Fee Listening Session</a> </b></p>
LOCATION:Council Chambers (City Hall)\, 710 NW Wall St Bend\, Oregon 97703
CLASS:PUBLIC
END:VEVENT
END:VCALENDAR
