BEGIN:VCALENDAR
VERSION:2.0
PRODID:City of Bend Calendar Creator
METHOD:PUBLISH
BEGIN:VEVENT
DTSTAMP:20240311T131636
DTSTART:20240313T150000
DTEND:20240313T170000
SUMMARY:Affordable Housing Advisory Committee (AHAC) Meeting
DESCRIPTION:<p><strong><strong><strong><strong>This meeting will be held in City Hall Council Chambers and via Zoom</strong>.&nbsp;&nbsp;</strong>Meeting time is 3:00 - 5:00pm</strong></strong></p><p><strong><strong><a href="https://bendoregon.prod-as.govaccess.org/home/showpublisheddocument/58448/638454927342370000" target="_blank">Agenda</a></strong></strong></p><p>Public comments for this meeting will be accepted two ways.&nbsp;</p><ul>    <li>To comment live at the meeting, you&nbsp;<strong>must</strong>&nbsp;join the meeting&nbsp;via Zoom.&nbsp;</li>    <li>Or send comments to&nbsp;<a>dcook@bendoregon.gov</a>&nbsp;prior to&nbsp;12:00 pm&nbsp;on Wednesday, March 13, 2024. &nbsp;Comments will be shared with committee members.</li></ul><p>To join&nbsp;<b>via Computer</b>&nbsp;(Zoom) use the following link:<br><a href="https://bendoregon-gov.zoom.us/j/82854860497?pwd=bFRWK3NBNUFhRU85Rzc2WXhSS3dmZz09" target="_blank">https://bendoregon-gov.zoom.us/j/82854860497?pwd=bFRWK3NBNUFhRU85Rzc2WXhSS3dmZz09</a></p><p>Passcode (required):&nbsp;401312</p><p>Or you may<strong>&nbsp;call</strong>&nbsp;into the meeting and enter the Webinar ID.</p><p>Call (<strong>toll charges may apply</strong>):&nbsp; 1-888-788-0099 or 1-253-215-8782</p><p>&nbsp;&nbsp;&nbsp;&nbsp;&nbsp;&nbsp;&nbsp;&nbsp;&nbsp;&nbsp;&nbsp;&nbsp;&nbsp;&nbsp;&nbsp; Webinar ID:&nbsp;828 5486 0497 ##</p><p>To watch live or later via YouTube:&nbsp;&nbsp;</p><p><a href="https://youtube.com/live/Z9Iq1J4wo8A?feature=share" target="_blank">https://youtube.com/live/Z9Iq1J4wo8A?feature=share</a></p><p ><br></p><p>If you have&nbsp;<b>technical difficulties</b>&nbsp;connecting to the meeting, call 541-410-9341</p>
X-ALT-DESC;FMTTYPE=text/html:<p><strong><strong><strong><strong>This meeting will be held in City Hall Council Chambers and via Zoom</strong>.&nbsp;&nbsp;</strong>Meeting time is 3:00 - 5:00pm</strong></strong></p><p><strong><strong><a href="https://bendoregon.prod-as.govaccess.org/home/showpublisheddocument/58448/638454927342370000" target="_blank">Agenda</a></strong></strong></p><p>Public comments for this meeting will be accepted two ways.&nbsp;</p><ul>    <li>To comment live at the meeting, you&nbsp;<strong>must</strong>&nbsp;join the meeting&nbsp;via Zoom.&nbsp;</li>    <li>Or send comments to&nbsp;<a>dcook@bendoregon.gov</a>&nbsp;prior to&nbsp;12:00 pm&nbsp;on Wednesday, March 13, 2024. &nbsp;Comments will be shared with committee members.</li></ul><p>To join&nbsp;<b>via Computer</b>&nbsp;(Zoom) use the following link:<br><a href="https://bendoregon-gov.zoom.us/j/82854860497?pwd=bFRWK3NBNUFhRU85Rzc2WXhSS3dmZz09" target="_blank">https://bendoregon-gov.zoom.us/j/82854860497?pwd=bFRWK3NBNUFhRU85Rzc2WXhSS3dmZz09</a></p><p>Passcode (required):&nbsp;401312</p><p>Or you may<strong>&nbsp;call</strong>&nbsp;into the meeting and enter the Webinar ID.</p><p>Call (<strong>toll charges may apply</strong>):&nbsp; 1-888-788-0099 or 1-253-215-8782</p><p>&nbsp;&nbsp;&nbsp;&nbsp;&nbsp;&nbsp;&nbsp;&nbsp;&nbsp;&nbsp;&nbsp;&nbsp;&nbsp;&nbsp;&nbsp; Webinar ID:&nbsp;828 5486 0497 ##</p><p>To watch live or later via YouTube:&nbsp;&nbsp;</p><p><a href="https://youtube.com/live/Z9Iq1J4wo8A?feature=share" target="_blank">https://youtube.com/live/Z9Iq1J4wo8A?feature=share</a></p><p ><br></p><p>If you have&nbsp;<b>technical difficulties</b>&nbsp;connecting to the meeting, call 541-410-9341</p>
LOCATION:Virtual meeting - see details below\, 
CLASS:PUBLIC
END:VEVENT
END:VCALENDAR
