BEGIN:VCALENDAR
VERSION:2.0
PRODID:City of Bend Calendar Creator
METHOD:PUBLISH
BEGIN:VEVENT
DTSTAMP:20240403T213854
DTSTART:20240410T150000
DTEND:20240410T170000
SUMMARY:Affordable Housing Advisory Committee (AHAC) Meeting
DESCRIPTION:<p><strong><strong><strong><strong>This meeting will be held in City Hall Council Chambers and via Zoom</strong>.&nbsp;&nbsp;</strong>Meeting time is 3:00 - 5:00pm</strong></strong></p><p><strong><strong><a href="https://bendoregon.prod-as.govaccess.org/home/showpublisheddocument/58678/638477764584530000" target="_blank">Agenda</a></strong></strong></p><p>Public comments for this meeting will be accepted two ways.&nbsp;</p><ul>    <li>To comment live at the meeting, you&nbsp;<strong>must</strong>&nbsp;join the meeting&nbsp;via Zoom.&nbsp;</li>    <li>Or send comments to&nbsp;<a>dcook@bendoregon.gov</a>&nbsp;prior to&nbsp;12:00 pm&nbsp;on Wednesday, April 10, 2024. &nbsp;Comments will be shared with committee members.</li></ul><p>To join&nbsp;<b>via Computer</b>&nbsp;(Zoom) use the following link:<br><a href="https://bendoregon-gov.zoom.us/j/81021005888?pwd=eFVmNUo2amlQYnA1MzBWR0laU0JsQT09" target="_blank">https://bendoregon-gov.zoom.us/j/81021005888?pwd=eFVmNUo2amlQYnA1MzBWR0laU0JsQT09</a></p><p>Passcode (required):&nbsp;908908</p><p>Or you may<strong>&nbsp;call</strong>&nbsp;into the meeting and enter the Webinar ID.</p><p>Call (<strong>toll charges may apply</strong>):&nbsp; 1-888-788-0099 or 1-253-215-8782</p><p>&nbsp;&nbsp;&nbsp;&nbsp;&nbsp;&nbsp;&nbsp;&nbsp;&nbsp;&nbsp;&nbsp;&nbsp;&nbsp;&nbsp;&nbsp; Webinar ID:&nbsp;810 2100 5888 ##</p><p>To watch live or later via YouTube:&nbsp;&nbsp;&nbsp;<a href="https://nam11.safelinks.protection.outlook.com/?url=https%3A%2F%2Fyoutube.com%2Flive%2FOEBo-3xqaQk%3Ffeature%3Dshare&amp;data=05%7C02%7Cdcook%40bendoregon.gov%7C303b9a02b2a54ee48b4e08dc44625eae%7C1c15334815ef4708aebf1e25e57dc400%7C0%7C0%7C638460436493326550%7CUnknown%7CTWFpbGZsb3d8eyJWIjoiMC4wLjAwMDAiLCJQIjoiV2luMzIiLCJBTiI6Ik1haWwiLCJXVCI6Mn0%3D%7C0%7C%7C%7C&amp;sdata=i67%2BBD3vae30JWamYZnitTRkGUFOaHlSqhMqSTL83KQ%3D&amp;reserved=0">https://youtube.com/live/OEBo-3xqaQk?feature=share</a></p><p>&nbsp;</p><p>If you have&nbsp;<b>technical difficulties</b>&nbsp;connecting to the meeting, call 541-410-9341</p>
X-ALT-DESC;FMTTYPE=text/html:<p><strong><strong><strong><strong>This meeting will be held in City Hall Council Chambers and via Zoom</strong>.&nbsp;&nbsp;</strong>Meeting time is 3:00 - 5:00pm</strong></strong></p><p><strong><strong><a href="https://bendoregon.prod-as.govaccess.org/home/showpublisheddocument/58678/638477764584530000" target="_blank">Agenda</a></strong></strong></p><p>Public comments for this meeting will be accepted two ways.&nbsp;</p><ul>    <li>To comment live at the meeting, you&nbsp;<strong>must</strong>&nbsp;join the meeting&nbsp;via Zoom.&nbsp;</li>    <li>Or send comments to&nbsp;<a>dcook@bendoregon.gov</a>&nbsp;prior to&nbsp;12:00 pm&nbsp;on Wednesday, April 10, 2024. &nbsp;Comments will be shared with committee members.</li></ul><p>To join&nbsp;<b>via Computer</b>&nbsp;(Zoom) use the following link:<br><a href="https://bendoregon-gov.zoom.us/j/81021005888?pwd=eFVmNUo2amlQYnA1MzBWR0laU0JsQT09" target="_blank">https://bendoregon-gov.zoom.us/j/81021005888?pwd=eFVmNUo2amlQYnA1MzBWR0laU0JsQT09</a></p><p>Passcode (required):&nbsp;908908</p><p>Or you may<strong>&nbsp;call</strong>&nbsp;into the meeting and enter the Webinar ID.</p><p>Call (<strong>toll charges may apply</strong>):&nbsp; 1-888-788-0099 or 1-253-215-8782</p><p>&nbsp;&nbsp;&nbsp;&nbsp;&nbsp;&nbsp;&nbsp;&nbsp;&nbsp;&nbsp;&nbsp;&nbsp;&nbsp;&nbsp;&nbsp; Webinar ID:&nbsp;810 2100 5888 ##</p><p>To watch live or later via YouTube:&nbsp;&nbsp;&nbsp;<a href="https://nam11.safelinks.protection.outlook.com/?url=https%3A%2F%2Fyoutube.com%2Flive%2FOEBo-3xqaQk%3Ffeature%3Dshare&amp;data=05%7C02%7Cdcook%40bendoregon.gov%7C303b9a02b2a54ee48b4e08dc44625eae%7C1c15334815ef4708aebf1e25e57dc400%7C0%7C0%7C638460436493326550%7CUnknown%7CTWFpbGZsb3d8eyJWIjoiMC4wLjAwMDAiLCJQIjoiV2luMzIiLCJBTiI6Ik1haWwiLCJXVCI6Mn0%3D%7C0%7C%7C%7C&amp;sdata=i67%2BBD3vae30JWamYZnitTRkGUFOaHlSqhMqSTL83KQ%3D&amp;reserved=0">https://youtube.com/live/OEBo-3xqaQk?feature=share</a></p><p>&nbsp;</p><p>If you have&nbsp;<b>technical difficulties</b>&nbsp;connecting to the meeting, call 541-410-9341</p>
LOCATION:Virtual meeting - see details below\, 
CLASS:PUBLIC
END:VEVENT
END:VCALENDAR
