BEGIN:VCALENDAR
VERSION:2.0
PRODID:City of Bend Calendar Creator
METHOD:PUBLISH
BEGIN:VEVENT
DTSTAMP:20240710T145340
DTSTART:20240716T180000
DTEND:20240716T210000
SUMMARY:Landmarks Commission
DESCRIPTION:<p>The meeting convenes at 6:00PM on a hybrid, in-person and virtual Zoom platform.</p><p>Join the meeting using the following options:</p><p>In-person location: City Hall, Council Chambers, 710 NW Wall Street, Bend, OR 97703</p><p>Register via Zoom Online Meeting Link:&nbsp;<a href="https://bendoregon-gov.zoom.us/webinar/register/WN_ey-1D9UUSMOaACoq4oi_Wg">https://bendoregon-gov.zoom.us/webinar/register/WN_ey-1D9UUSMOaACoq4oi_Wg</a></p><p>Join by phone: Toll-free:1-888-788-0099</p><p>Webinar ID: 817 0703 8428</p><p>Password:894088</p><p>The public is invited to watch on-line at:&nbsp;<a href="https://nam11.safelinks.protection.outlook.com/?url=https%3A%2F%2Fyoutube.com%2Flive%2Ff0-H45PVKgA%3Ffeature%3Dshare&amp;data=05%7C02%7Ccroliveira%40bendoregon.gov%7Cc4c1c8f410d84580255e08dca0497db1%7C1c15334815ef4708aebf1e25e57dc400%7C0%7C0%7C638561484795350707%7CUnknown%7CTWFpbGZsb3d8eyJWIjoiMC4wLjAwMDAiLCJQIjoiV2luMzIiLCJBTiI6Ik1haWwiLCJXVCI6Mn0%3D%7C0%7C%7C%7C&amp;sdata=Gt160a0OclHPX6AUGoRkfQDB8yOb11Ty9Jb8gxkUd%2BI%3D&amp;reserved=0" target="_blank">https://youtube.com/live/f0-H45PVKgA?feature=share</a></p><p>View the meeting <a href="https://www.bendoregon.gov/home/showpublisheddocument/59495/638561384639970000" target="_blank">Agenda</a> at the following link:<a href="https://www.bendoregon.gov/home/showpublisheddocument/59495/638561384639970000" target="_blank"> https://www.bendoregon.gov/home/showpublisheddocument/59495/638561384639970000</a></p>
X-ALT-DESC;FMTTYPE=text/html:<p>The meeting convenes at 6:00PM on a hybrid, in-person and virtual Zoom platform.</p><p>Join the meeting using the following options:</p><p>In-person location: City Hall, Council Chambers, 710 NW Wall Street, Bend, OR 97703</p><p>Register via Zoom Online Meeting Link:&nbsp;<a href="https://bendoregon-gov.zoom.us/webinar/register/WN_ey-1D9UUSMOaACoq4oi_Wg">https://bendoregon-gov.zoom.us/webinar/register/WN_ey-1D9UUSMOaACoq4oi_Wg</a></p><p>Join by phone: Toll-free:1-888-788-0099</p><p>Webinar ID: 817 0703 8428</p><p>Password:894088</p><p>The public is invited to watch on-line at:&nbsp;<a href="https://nam11.safelinks.protection.outlook.com/?url=https%3A%2F%2Fyoutube.com%2Flive%2Ff0-H45PVKgA%3Ffeature%3Dshare&amp;data=05%7C02%7Ccroliveira%40bendoregon.gov%7Cc4c1c8f410d84580255e08dca0497db1%7C1c15334815ef4708aebf1e25e57dc400%7C0%7C0%7C638561484795350707%7CUnknown%7CTWFpbGZsb3d8eyJWIjoiMC4wLjAwMDAiLCJQIjoiV2luMzIiLCJBTiI6Ik1haWwiLCJXVCI6Mn0%3D%7C0%7C%7C%7C&amp;sdata=Gt160a0OclHPX6AUGoRkfQDB8yOb11Ty9Jb8gxkUd%2BI%3D&amp;reserved=0" target="_blank">https://youtube.com/live/f0-H45PVKgA?feature=share</a></p><p>View the meeting <a href="https://www.bendoregon.gov/home/showpublisheddocument/59495/638561384639970000" target="_blank">Agenda</a> at the following link:<a href="https://www.bendoregon.gov/home/showpublisheddocument/59495/638561384639970000" target="_blank"> https://www.bendoregon.gov/home/showpublisheddocument/59495/638561384639970000</a></p>
LOCATION:Council Chambers (City Hall)\, 710 NW Wall St Bend\, Oregon 97703
CLASS:PUBLIC
END:VEVENT
END:VCALENDAR
