BEGIN:VCALENDAR
VERSION:2.0
PRODID:City of Bend Calendar Creator
METHOD:PUBLISH
BEGIN:VEVENT
DTSTAMP:20240723T092438
DTSTART:20240730T090000
DTEND:20240730T103000
SUMMARY:Core Area Advisory Board Hybrid Meeting
DESCRIPTION:<h3>For more information on the Core Area Advisory Board, check out the <a href="https://www.bendoregon.gov/government/committees/core-area-advisory-board" target="_blank">CAAB webpage</a>.&nbsp;</h3><table width="100%" cellspacing="0" cellpadding="0" border="0"></table><div unselectable="on" rrsw"="" rel="rrWidget"></div><div unselectable="on" rrs"="" rel="rrWidget"></div><div unselectable="on" rrse"="" rel="rrWidget"></div><div unselectable="on" rre"="" rel="rrWidget"></div><div unselectable="on" rrne"="" rel="rrWidget"></div><div unselectable="on" rrn"="" rel="rrWidget"></div><div unselectable="on" rrnw"="" rel="rrWidget"></div><div unselectable="on" rrw"="" rel="rrWidget"></div><table width="100%" cellspacing="0" cellpadding="0" border="0">    <tbody>        <tr>            <td></td>        </tr>    </tbody></table><b></b><b></b><p align="center" style="text-align: left;"><span style="text-align: left;"><strong><a href="https://bendoregon.prod-as.govaccess.org/home/showpublisheddocument/59571/638573231729670000" target="_blank">AGENDA</a></strong></span></p><p>&nbsp;</p><p align="center"><b>NOTICE OF MEETING</b></p><p align="center"><b>CORE AREA ADVISORY BOARD&nbsp; </b></p><p align="center"><b>HYBRID MEETING</b></p><p align="center"><b>July 30,2024</b></p><p>&nbsp;</p><p><b>MEETING NOTICE</b><br>The Core Area Advisory Board (CAAB) hybrid meeting through Zoom and in person in Council Chambers at 710 NW Wall Street, Bend, OR 97703 on <b><u>Tuesday, July 30,2024</u></b>, from 9:00am to 10:30am.</p><p><b>For Committee Members and City Staff:</b></p><p>You will receive a Zoom email confirmation with a personal link/information to connect via computer or phone.</p><p><b>Regular Attendees-Zoom Link: </b><a href="https://bendoregon-gov.zoom.us/j/82037683684?pwd=k6e4kObNb6Qj6xGpiPG5DNOcjc51Yg.1"><b>https://bendoregon-gov.zoom.us/j/82037683684?pwd=k6e4kObNb6Qj6xGpiPG5DNOcjc51Yg.1</b></a></p><p><b>To Attend by Phone:</b></p><ul>    <li><b>Call-in Phone Number: </b>1-888-788-0099</li>    <li><b>Webinar ID: </b>820 3768 3684#</li>    <li><b>Passcode: 821163</b></li></ul><p><b>YouTube Link:&nbsp;&nbsp;<a href="https://youtube.com/live/Nt8xoRcNgsA?feature=share" target="_blank">https://youtube.com/live/Nt8xoRcNgsA?feature=share</a></b></p><p><b>Technical Difficulties Connecting to this Meeting: </b>Call 541-410-9341.</p><p><b>Accessible Meeting Information</b></p><p>This meeting/event location is accessible. Sign language interpreter service, assistive listening devices, materials in alternate format such as Braille, large print, electronic formats, or any other accommodations are available upon advance request. Please contact Gina M Kadow no later than 24 hours in advance at <a href="mailto:&#103;&#107;&#97;&#100;&#111;&#119;&#64;&#98;&#101;&#110;&#100;&#111;&#114;&#101;&#103;&#111;&#110;&#46;&#103;&#111;&#118;"><b>gkadow@bendoregon.gov</b></a> or call 541-388-5505; Relay Users Dial 7-1-1. Providing at least 3 days’ notice prior to the event will help ensure availability.</p><p>&nbsp;</p><p><span style="color: rgb(192, 0, 0);"></span></p>
X-ALT-DESC;FMTTYPE=text/html:<h3>For more information on the Core Area Advisory Board, check out the <a href="https://www.bendoregon.gov/government/committees/core-area-advisory-board" target="_blank">CAAB webpage</a>.&nbsp;</h3><table width="100%" cellspacing="0" cellpadding="0" border="0"></table><div unselectable="on" rrsw"="" rel="rrWidget"></div><div unselectable="on" rrs"="" rel="rrWidget"></div><div unselectable="on" rrse"="" rel="rrWidget"></div><div unselectable="on" rre"="" rel="rrWidget"></div><div unselectable="on" rrne"="" rel="rrWidget"></div><div unselectable="on" rrn"="" rel="rrWidget"></div><div unselectable="on" rrnw"="" rel="rrWidget"></div><div unselectable="on" rrw"="" rel="rrWidget"></div><table width="100%" cellspacing="0" cellpadding="0" border="0">    <tbody>        <tr>            <td></td>        </tr>    </tbody></table><b></b><b></b><p align="center" style="text-align: left;"><span style="text-align: left;"><strong><a href="https://bendoregon.prod-as.govaccess.org/home/showpublisheddocument/59571/638573231729670000" target="_blank">AGENDA</a></strong></span></p><p>&nbsp;</p><p align="center"><b>NOTICE OF MEETING</b></p><p align="center"><b>CORE AREA ADVISORY BOARD&nbsp; </b></p><p align="center"><b>HYBRID MEETING</b></p><p align="center"><b>July 30,2024</b></p><p>&nbsp;</p><p><b>MEETING NOTICE</b><br>The Core Area Advisory Board (CAAB) hybrid meeting through Zoom and in person in Council Chambers at 710 NW Wall Street, Bend, OR 97703 on <b><u>Tuesday, July 30,2024</u></b>, from 9:00am to 10:30am.</p><p><b>For Committee Members and City Staff:</b></p><p>You will receive a Zoom email confirmation with a personal link/information to connect via computer or phone.</p><p><b>Regular Attendees-Zoom Link: </b><a href="https://bendoregon-gov.zoom.us/j/82037683684?pwd=k6e4kObNb6Qj6xGpiPG5DNOcjc51Yg.1"><b>https://bendoregon-gov.zoom.us/j/82037683684?pwd=k6e4kObNb6Qj6xGpiPG5DNOcjc51Yg.1</b></a></p><p><b>To Attend by Phone:</b></p><ul>    <li><b>Call-in Phone Number: </b>1-888-788-0099</li>    <li><b>Webinar ID: </b>820 3768 3684#</li>    <li><b>Passcode: 821163</b></li></ul><p><b>YouTube Link:&nbsp;&nbsp;<a href="https://youtube.com/live/Nt8xoRcNgsA?feature=share" target="_blank">https://youtube.com/live/Nt8xoRcNgsA?feature=share</a></b></p><p><b>Technical Difficulties Connecting to this Meeting: </b>Call 541-410-9341.</p><p><b>Accessible Meeting Information</b></p><p>This meeting/event location is accessible. Sign language interpreter service, assistive listening devices, materials in alternate format such as Braille, large print, electronic formats, or any other accommodations are available upon advance request. Please contact Gina M Kadow no later than 24 hours in advance at <a href="mailto:&#103;&#107;&#97;&#100;&#111;&#119;&#64;&#98;&#101;&#110;&#100;&#111;&#114;&#101;&#103;&#111;&#110;&#46;&#103;&#111;&#118;"><b>gkadow@bendoregon.gov</b></a> or call 541-388-5505; Relay Users Dial 7-1-1. Providing at least 3 days’ notice prior to the event will help ensure availability.</p><p>&nbsp;</p><p><span style="color: rgb(192, 0, 0);"></span></p>
LOCATION:Council Chambers (City Hall)\, 710 NW Wall St Bend\, Oregon 97703
CLASS:PUBLIC
END:VEVENT
END:VCALENDAR
