BEGIN:VCALENDAR
VERSION:2.0
PRODID:City of Bend Calendar Creator
METHOD:PUBLISH
BEGIN:VEVENT
DTSTAMP:20240712T120729
DTSTART:20240722T173000
DTEND:20240722T235900
SUMMARY:Canceled: Planning Commission
DESCRIPTION:<p>The July 22, 2024 Planning Commission meeting has been canceled.</p><p>Please see the Planning Commission page for future meetings: <a href="https://www.bendoregon.gov/government/committees/planning-commission" target="_blank">Bend Planning Commission</a></p>
X-ALT-DESC;FMTTYPE=text/html:<p>The July 22, 2024 Planning Commission meeting has been canceled.</p><p>Please see the Planning Commission page for future meetings: <a href="https://www.bendoregon.gov/government/committees/planning-commission" target="_blank">Bend Planning Commission</a></p>
LOCATION:Council Chambers (City Hall)\, 710 NW Wall St Bend\, Oregon 97703
CLASS:PUBLIC
END:VEVENT
END:VCALENDAR
