BEGIN:VCALENDAR
VERSION:2.0
PRODID:City of Bend Calendar Creator
METHOD:PUBLISH
BEGIN:VEVENT
DTSTAMP:20240726T105330
DTSTART:20240805T140000
DTEND:20240805T160000
SUMMARY:Environment and Climate Committee Energy Supply Working Group CCAP Update Workshop
DESCRIPTION:<p>The Environment and Climate Committee will be holding its Energy Supply Working Group CCAP Update Workshop on Monday, August 5, from 2 p.m. to 4 p.m. in Awbrey Butte Conference Room at City Hall (710 NW Wall Street).</p><p><b>To Attend by Computer,</b>&nbsp;<b><u><a href="https://bendoregon-gov.zoom.us/webinar/register/WN_F25UjmnUSeCmS7BBFpCezA" target="_blank">Pre-register</a></u></b><b>.</b></p><ul type="disc">    <li>You will receive an email confirmation with a personal link/information to connect via computer or phone.</li></ul><p><b>To Attend by Phone:</b></p><ul type="disc">    <li><b>Call-in Phone Number:&nbsp;</b>1-888-788-0099</li>    <li><b>Webinar ID:&nbsp;</b>885 6002 5772</li>    <li><b>Passcode:&nbsp;</b>233262</li></ul><p><b>YouTube Livestream Link: <a href="https://youtube.com/live/VGuqdVRfH1A?feature=share" target="_blank">Live Stream the Energy Supply Working Group CCAP Update Workshop</a>.</b></p><p><b><a href="https://bendoregon.prod-as.govaccess.org/home/showpublisheddocument/59577/638573317439770000" target="_blank">Agenda</a></b></p><p><b><a href="https://bendoregon.prod-as.govaccess.org/home/showpublisheddocument/59619/638575877566430000" target="_blank">Best Practices and State Policy Memo</a></b></p><p><b><a href="https://bendoregon.prod-as.govaccess.org/home/showpublisheddocument/59623/638575877578230000" target="_blank">Energy Supply CCAP Update Workshop Memo</a></b></p>
X-ALT-DESC;FMTTYPE=text/html:<p>The Environment and Climate Committee will be holding its Energy Supply Working Group CCAP Update Workshop on Monday, August 5, from 2 p.m. to 4 p.m. in Awbrey Butte Conference Room at City Hall (710 NW Wall Street).</p><p><b>To Attend by Computer,</b>&nbsp;<b><u><a href="https://bendoregon-gov.zoom.us/webinar/register/WN_F25UjmnUSeCmS7BBFpCezA" target="_blank">Pre-register</a></u></b><b>.</b></p><ul type="disc">    <li>You will receive an email confirmation with a personal link/information to connect via computer or phone.</li></ul><p><b>To Attend by Phone:</b></p><ul type="disc">    <li><b>Call-in Phone Number:&nbsp;</b>1-888-788-0099</li>    <li><b>Webinar ID:&nbsp;</b>885 6002 5772</li>    <li><b>Passcode:&nbsp;</b>233262</li></ul><p><b>YouTube Livestream Link: <a href="https://youtube.com/live/VGuqdVRfH1A?feature=share" target="_blank">Live Stream the Energy Supply Working Group CCAP Update Workshop</a>.</b></p><p><b><a href="https://bendoregon.prod-as.govaccess.org/home/showpublisheddocument/59577/638573317439770000" target="_blank">Agenda</a></b></p><p><b><a href="https://bendoregon.prod-as.govaccess.org/home/showpublisheddocument/59619/638575877566430000" target="_blank">Best Practices and State Policy Memo</a></b></p><p><b><a href="https://bendoregon.prod-as.govaccess.org/home/showpublisheddocument/59623/638575877578230000" target="_blank">Energy Supply CCAP Update Workshop Memo</a></b></p>
LOCATION:Awbrey Butte (City Hall)\, 710 NW Wall St Bend\, Oregon 97703
CLASS:PUBLIC
END:VEVENT
END:VCALENDAR
