BEGIN:VCALENDAR
VERSION:2.0
PRODID:City of Bend Calendar Creator
METHOD:PUBLISH
BEGIN:VEVENT
DTSTAMP:20240726T105453
DTSTART:20240808T110000
DTEND:20240808T130000
SUMMARY:Environment and Climate Committee Transportation Working Group CCAP Update Workshop
DESCRIPTION:<p>The Environment and Climate Committee will be holding its Transportation Working Group CCAP Update Workshop on Thursday, August 8 from 11 a.m. to 1 p.m. in Council Chambers at City Hall (710 NW Wall Street).</p><p><b>To Attend by Computer,</b>&nbsp;<b><u><a href="https://bendoregon-gov.zoom.us/webinar/register/WN_eoSZj9CbQf6TzU8J861Rkg" target="_blank">Pre-register</a></u></b><b>.</b></p><ul type="disc">    <li>You will receive an email confirmation with a personal link/information to connect via computer or phone.</li></ul><p><b>To Attend by Phone:</b></p><ul type="disc">    <li><b>Call-in Phone Number:&nbsp;</b>1-888-788-0099</li>    <li><b>Webinar ID:&nbsp;</b>882 0584 4426</li>    <li><b>Passcode:&nbsp;</b>700438</li></ul><p><b>YouTube Livestream Link:&nbsp;</b><b><u><a href="https://youtube.com/live/DGE6ubuObvM?feature=share" target="_blank">Live Stream the Transportation Working Group CCAP Update Workshop</a></u></b><b>.</b></p><p><b><a href="https://bendoregon.prod-as.govaccess.org/home/showpublisheddocument/59579/638573322091870000" target="_blank">Agenda</a></b></p><p><b><a href="https://bendoregon.prod-as.govaccess.org/home/showpublisheddocument/59619/638575877566430000" target="_blank">Best Practices and State Policy Memo</a></b></p><p><b><a href="https://bendoregon.prod-as.govaccess.org/home/showpublisheddocument/59625/638575877583230000" target="_blank">Transportation CCAP Update Workshop Memo</a></b></p>
X-ALT-DESC;FMTTYPE=text/html:<p>The Environment and Climate Committee will be holding its Transportation Working Group CCAP Update Workshop on Thursday, August 8 from 11 a.m. to 1 p.m. in Council Chambers at City Hall (710 NW Wall Street).</p><p><b>To Attend by Computer,</b>&nbsp;<b><u><a href="https://bendoregon-gov.zoom.us/webinar/register/WN_eoSZj9CbQf6TzU8J861Rkg" target="_blank">Pre-register</a></u></b><b>.</b></p><ul type="disc">    <li>You will receive an email confirmation with a personal link/information to connect via computer or phone.</li></ul><p><b>To Attend by Phone:</b></p><ul type="disc">    <li><b>Call-in Phone Number:&nbsp;</b>1-888-788-0099</li>    <li><b>Webinar ID:&nbsp;</b>882 0584 4426</li>    <li><b>Passcode:&nbsp;</b>700438</li></ul><p><b>YouTube Livestream Link:&nbsp;</b><b><u><a href="https://youtube.com/live/DGE6ubuObvM?feature=share" target="_blank">Live Stream the Transportation Working Group CCAP Update Workshop</a></u></b><b>.</b></p><p><b><a href="https://bendoregon.prod-as.govaccess.org/home/showpublisheddocument/59579/638573322091870000" target="_blank">Agenda</a></b></p><p><b><a href="https://bendoregon.prod-as.govaccess.org/home/showpublisheddocument/59619/638575877566430000" target="_blank">Best Practices and State Policy Memo</a></b></p><p><b><a href="https://bendoregon.prod-as.govaccess.org/home/showpublisheddocument/59625/638575877583230000" target="_blank">Transportation CCAP Update Workshop Memo</a></b></p>
LOCATION:Council Chambers (City Hall)\, 710 NW Wall St Bend\, Oregon 97703
CLASS:PUBLIC
END:VEVENT
END:VCALENDAR
