BEGIN:VCALENDAR
VERSION:2.0
PRODID:City of Bend Calendar Creator
METHOD:PUBLISH
BEGIN:VEVENT
DTSTAMP:20240814T151055
DTSTART:20240826T000000
DTEND:20240826T235900
SUMMARY:CANCELED: Planning Commission
DESCRIPTION:<p>The August 26, 2024 Planning commission meeting has been cancelled.&nbsp;</p><p>&nbsp;Please see the Planning Commission page for future meetings: <a href="https://www.bendoregon.gov/government/committees/planning-commission" target="_blank">Bend Planning Commission</a></p>
X-ALT-DESC;FMTTYPE=text/html:<p>The August 26, 2024 Planning commission meeting has been cancelled.&nbsp;</p><p>&nbsp;Please see the Planning Commission page for future meetings: <a href="https://www.bendoregon.gov/government/committees/planning-commission" target="_blank">Bend Planning Commission</a></p>
LOCATION:Council Chambers (City Hall)\, 710 NW Wall St Bend\, Oregon 97703
CLASS:PUBLIC
END:VEVENT
END:VCALENDAR
