BEGIN:VCALENDAR
VERSION:2.0
PRODID:City of Bend Calendar Creator
METHOD:PUBLISH
BEGIN:VEVENT
DTSTAMP:20240819T105152
DTSTART:20240819T130000
DTEND:20240819T150000
SUMMARY:CANCELLED-Core Area Business Development Code Subcommittee Hybrid Meeting
DESCRIPTION:<h3>For more information on the Core Area Advisory Board, check out the <a href="https://www.bendoregon.gov/government/committees/core-area-advisory-board" target="_blank">CAAB webpage</a>.&nbsp;</h3><table width="100%" cellspacing="0" cellpadding="0" border="0"></table><div unselectable="on" rrsw"="" rel="rrWidget"></div><div unselectable="on" rrs"="" rel="rrWidget"></div><div unselectable="on" rrse"="" rel="rrWidget"></div><div unselectable="on" rre"="" rel="rrWidget"></div><div unselectable="on" rrne"="" rel="rrWidget"></div><div unselectable="on" rrn"="" rel="rrWidget"></div><div unselectable="on" rrnw"="" rel="rrWidget"></div><div unselectable="on" rrw"="" rel="rrWidget"></div><table width="100%" cellspacing="0" cellpadding="0" border="0">    <tbody>        <tr>            <td></td>        </tr>    </tbody></table><b></b><b></b><p align="center"><b><br></b></p><p align="center"><b>NOTICE OF MEETING <span style="text-decoration: underline;">CANCELLATION</span></b></p><p align="center"><b>CORE AREA </b></p><p align="center"><b>ADVISORY BOARD DEVELOPMENT CODE&nbsp;SUBCOMMITTEE</b></p><p align="center"><b>HYBRID MEETING </b></p><p align="center"><b>August 19,2024</b></p><p align="center" style="text-align: left;"><a href="https://bendoregon.prod-as.govaccess.org/home/showpublisheddocument/59807/638596503903200000" target="_blank">AGENDA</a></p><p><b>MEETING NOTICE</b><br>The Core Area Advisory Board Development Code Subcommittee will conduct a hybrid meeting through Zoom and in person in Council Chambers at 710 NW Wall Street, Bend, OR 97703 on <b><u>Monday August 19,2024</u></b>, from 1:00 to 3:00pm.</p><p><b>For Committee Members and City Staff:</b></p><p>You will receive a Zoom email confirmation with a personal link/information to connect via computer or phone.</p><p><b>Regular Attendees-Zoom Link:&nbsp;<a href="https://bendoregon-gov.zoom.us/j/84695268478?pwd=Qbppkn03wNKgmGvZtTntbQJAmlanz3.1" target="_blank">https://bendoregon-gov.zoom.us/j/84695268478?pwd=Qbppkn03wNKgmGvZtTntbQJAmlanz3.1</a></b></p><p><b>To Attend by Phone:</b></p><ul>    <li><b>Call-in Phone Number: </b>1-888-788-0099</li>    <li><b>Webinar ID: 846 9526 8478</b>#</li>    <li><b>Passcode:203409</b></li></ul><p><b>YouTube Link:&nbsp; <a href=" https://youtube.com/live/5IzWtWOJoek?feature=share" target="_blank">https://youtube.com/live/5IzWtWOJoek?feature=share</a></b></p><p><b>Technical Difficulties Connecting to this Meeting: </b>Call 541-410-9341.</p><p><b>Accessible Meeting Information</b></p><p>This meeting/event location is accessible. Sign language interpreter service, assistive listening devices, materials in alternate format such as Braille, large print, electronic formats, or any other accommodations are available upon advance request. Please contact Gina M Kadow no later than 24 hours in advance at <a href="mailto:&#103;&#107;&#97;&#100;&#111;&#119;&#64;&#98;&#101;&#110;&#100;&#111;&#114;&#101;&#103;&#111;&#110;&#46;&#103;&#111;&#118;"><b>gkadow@bendoregon.gov</b></a> or call 541-388-5505; Relay Users Dial 7-1-1. Providing at least 3 days’ notice prior to the event will help ensure availability.</p><b><p>&nbsp;</p></b><p><span style="color: rgb(192, 0, 0);"></span></p>
X-ALT-DESC;FMTTYPE=text/html:<h3>For more information on the Core Area Advisory Board, check out the <a href="https://www.bendoregon.gov/government/committees/core-area-advisory-board" target="_blank">CAAB webpage</a>.&nbsp;</h3><table width="100%" cellspacing="0" cellpadding="0" border="0"></table><div unselectable="on" rrsw"="" rel="rrWidget"></div><div unselectable="on" rrs"="" rel="rrWidget"></div><div unselectable="on" rrse"="" rel="rrWidget"></div><div unselectable="on" rre"="" rel="rrWidget"></div><div unselectable="on" rrne"="" rel="rrWidget"></div><div unselectable="on" rrn"="" rel="rrWidget"></div><div unselectable="on" rrnw"="" rel="rrWidget"></div><div unselectable="on" rrw"="" rel="rrWidget"></div><table width="100%" cellspacing="0" cellpadding="0" border="0">    <tbody>        <tr>            <td></td>        </tr>    </tbody></table><b></b><b></b><p align="center"><b><br></b></p><p align="center"><b>NOTICE OF MEETING <span style="text-decoration: underline;">CANCELLATION</span></b></p><p align="center"><b>CORE AREA </b></p><p align="center"><b>ADVISORY BOARD DEVELOPMENT CODE&nbsp;SUBCOMMITTEE</b></p><p align="center"><b>HYBRID MEETING </b></p><p align="center"><b>August 19,2024</b></p><p align="center" style="text-align: left;"><a href="https://bendoregon.prod-as.govaccess.org/home/showpublisheddocument/59807/638596503903200000" target="_blank">AGENDA</a></p><p><b>MEETING NOTICE</b><br>The Core Area Advisory Board Development Code Subcommittee will conduct a hybrid meeting through Zoom and in person in Council Chambers at 710 NW Wall Street, Bend, OR 97703 on <b><u>Monday August 19,2024</u></b>, from 1:00 to 3:00pm.</p><p><b>For Committee Members and City Staff:</b></p><p>You will receive a Zoom email confirmation with a personal link/information to connect via computer or phone.</p><p><b>Regular Attendees-Zoom Link:&nbsp;<a href="https://bendoregon-gov.zoom.us/j/84695268478?pwd=Qbppkn03wNKgmGvZtTntbQJAmlanz3.1" target="_blank">https://bendoregon-gov.zoom.us/j/84695268478?pwd=Qbppkn03wNKgmGvZtTntbQJAmlanz3.1</a></b></p><p><b>To Attend by Phone:</b></p><ul>    <li><b>Call-in Phone Number: </b>1-888-788-0099</li>    <li><b>Webinar ID: 846 9526 8478</b>#</li>    <li><b>Passcode:203409</b></li></ul><p><b>YouTube Link:&nbsp; <a href=" https://youtube.com/live/5IzWtWOJoek?feature=share" target="_blank">https://youtube.com/live/5IzWtWOJoek?feature=share</a></b></p><p><b>Technical Difficulties Connecting to this Meeting: </b>Call 541-410-9341.</p><p><b>Accessible Meeting Information</b></p><p>This meeting/event location is accessible. Sign language interpreter service, assistive listening devices, materials in alternate format such as Braille, large print, electronic formats, or any other accommodations are available upon advance request. Please contact Gina M Kadow no later than 24 hours in advance at <a href="mailto:&#103;&#107;&#97;&#100;&#111;&#119;&#64;&#98;&#101;&#110;&#100;&#111;&#114;&#101;&#103;&#111;&#110;&#46;&#103;&#111;&#118;"><b>gkadow@bendoregon.gov</b></a> or call 541-388-5505; Relay Users Dial 7-1-1. Providing at least 3 days’ notice prior to the event will help ensure availability.</p><b><p>&nbsp;</p></b><p><span style="color: rgb(192, 0, 0);"></span></p>
LOCATION:Council Chambers (City Hall)\, 710 NW Wall St Bend\, Oregon 97703
CLASS:PUBLIC
END:VEVENT
END:VCALENDAR
