BEGIN:VCALENDAR
VERSION:2.0
PRODID:City of Bend Calendar Creator
METHOD:PUBLISH
BEGIN:VEVENT
DTSTAMP:20241118T111343
DTSTART:20240917T180000
DTEND:20240917T235900
SUMMARY:Landmarks Commission
DESCRIPTION:<p>The meeting convenes at 6:00PM on a hybrid, in-person and virtual Zoom platform.</p><p>Join the meeting using the following options:</p><p>In-person location: City Hall, Council Chambers, 710 NW Wall Street, Bend, OR 97703</p><p>Register via Zoom Online Meeting Link:&nbsp;<a href="https://bendoregon-gov.zoom.us/webinar/register/WN_ioTVyVLCR9yWu_Sq4g1x1Q"><b>https://bendoregon-gov.zoom.us/webinar/register/WN_ioTVyVLCR9yWu_Sq4g1x1Q</b></a></p><p>Join by phone: Toll-free:1-888-788-0099</p><p>Webinar ID: 892 4973 6455</p><p>Password: 896537</p><p>The public is invited to watch on-line at: <a href="https://nam11.safelinks.protection.outlook.com/?url=https%3A%2F%2Fyoutube.com%2Flive%2FViIcOI44M_Q%3Ffeature%3Dshare&amp;data=05%7C02%7Cmstonge%40bendoregon.gov%7C6c911f89725b4c8b33b008dccc425d1a%7C1c15334815ef4708aebf1e25e57dc400%7C0%7C0%7C638609832638606315%7CUnknown%7CTWFpbGZsb3d8eyJWIjoiMC4wLjAwMDAiLCJQIjoiV2luMzIiLCJBTiI6Ik1haWwiLCJXVCI6Mn0%3D%7C0%7C%7C%7C&amp;sdata=voOCSGTG%2BBHrHncbCLhSkVbWPHRZLkwWZTPHEZMkR3Y%3D&amp;reserved=0" target="_blank">https://youtube.com/live/ViIcOI44M_Q?feature=share</a></p><p>View the meeting Agenda at the following link: <a href="https://bendoregon.prod-as.govaccess.org/home/showpublisheddocument/59937/638610468211170000" target="_blank">Landmarks Commission Agenda 9/17/24</a></p>
X-ALT-DESC;FMTTYPE=text/html:<p>The meeting convenes at 6:00PM on a hybrid, in-person and virtual Zoom platform.</p><p>Join the meeting using the following options:</p><p>In-person location: City Hall, Council Chambers, 710 NW Wall Street, Bend, OR 97703</p><p>Register via Zoom Online Meeting Link:&nbsp;<a href="https://bendoregon-gov.zoom.us/webinar/register/WN_ioTVyVLCR9yWu_Sq4g1x1Q"><b>https://bendoregon-gov.zoom.us/webinar/register/WN_ioTVyVLCR9yWu_Sq4g1x1Q</b></a></p><p>Join by phone: Toll-free:1-888-788-0099</p><p>Webinar ID: 892 4973 6455</p><p>Password: 896537</p><p>The public is invited to watch on-line at: <a href="https://nam11.safelinks.protection.outlook.com/?url=https%3A%2F%2Fyoutube.com%2Flive%2FViIcOI44M_Q%3Ffeature%3Dshare&amp;data=05%7C02%7Cmstonge%40bendoregon.gov%7C6c911f89725b4c8b33b008dccc425d1a%7C1c15334815ef4708aebf1e25e57dc400%7C0%7C0%7C638609832638606315%7CUnknown%7CTWFpbGZsb3d8eyJWIjoiMC4wLjAwMDAiLCJQIjoiV2luMzIiLCJBTiI6Ik1haWwiLCJXVCI6Mn0%3D%7C0%7C%7C%7C&amp;sdata=voOCSGTG%2BBHrHncbCLhSkVbWPHRZLkwWZTPHEZMkR3Y%3D&amp;reserved=0" target="_blank">https://youtube.com/live/ViIcOI44M_Q?feature=share</a></p><p>View the meeting Agenda at the following link: <a href="https://bendoregon.prod-as.govaccess.org/home/showpublisheddocument/59937/638610468211170000" target="_blank">Landmarks Commission Agenda 9/17/24</a></p>
LOCATION:Council Chambers (City Hall)\, 710 NW Wall St Bend\, Oregon 97703
CLASS:PUBLIC
END:VEVENT
END:VCALENDAR
