BEGIN:VCALENDAR
VERSION:2.0
PRODID:City of Bend Calendar Creator
METHOD:PUBLISH
BEGIN:VEVENT
DTSTAMP:20240829T091200
DTSTART:20240905T140000
DTEND:20240905T160000
SUMMARY:Joint Meeting of the Bend City Council & Deschutes County Board of Commissioners
DESCRIPTION:<p>The&nbsp;<a href="https://www.bendoregon.gov/home/showpublisheddocument/59897/638605189683074304" target="_blank">Meeting Agenda</a>&nbsp;is listed under the "Additional Meetings" section of the Council Meeting Agendas and Minutes page.</p><p><b>MEETING FORMAT: </b>In accordance with Oregon state law, this meeting is open to the public and can be accessed and attended in person or remotely.</p><p><u>In-person</u></p><p>Members of the public may attend in-person at the Deschutes Services Building, 1300 NW Wall, Barnes &amp; Sawyer Rooms, Bend, Oregon.</p><p><u>Livestream </u></p><p>Members of the public may view the meeting in real time via YouTube using this link: <a href="http://bit.ly/3mmlnzy"><b>http://bit.ly/3mmlnzy</b></a>. </p><p><u>Virtual</u></p><p>This meeting may be accessed via Zoom using a phone or computer.</p><ul>    <li>To join the meeting via Zoom from a computer, use this link: <a href="http://bit.ly/3h3oqdD"><b>http://bit.ly/3h3oqdD</b></a>.</li>    <li>To join by phone, call 253-215-8782 and enter webinar ID # 899 4635 9970 followed by the passcode 013510.</li></ul>
X-ALT-DESC;FMTTYPE=text/html:<p>The&nbsp;<a href="https://www.bendoregon.gov/home/showpublisheddocument/59897/638605189683074304" target="_blank">Meeting Agenda</a>&nbsp;is listed under the "Additional Meetings" section of the Council Meeting Agendas and Minutes page.</p><p><b>MEETING FORMAT: </b>In accordance with Oregon state law, this meeting is open to the public and can be accessed and attended in person or remotely.</p><p><u>In-person</u></p><p>Members of the public may attend in-person at the Deschutes Services Building, 1300 NW Wall, Barnes &amp; Sawyer Rooms, Bend, Oregon.</p><p><u>Livestream </u></p><p>Members of the public may view the meeting in real time via YouTube using this link: <a href="http://bit.ly/3mmlnzy"><b>http://bit.ly/3mmlnzy</b></a>. </p><p><u>Virtual</u></p><p>This meeting may be accessed via Zoom using a phone or computer.</p><ul>    <li>To join the meeting via Zoom from a computer, use this link: <a href="http://bit.ly/3h3oqdD"><b>http://bit.ly/3h3oqdD</b></a>.</li>    <li>To join by phone, call 253-215-8782 and enter webinar ID # 899 4635 9970 followed by the passcode 013510.</li></ul>
LOCATION:
CLASS:PUBLIC
END:VEVENT
END:VCALENDAR
