BEGIN:VCALENDAR
VERSION:2.0
PRODID:City of Bend Calendar Creator
METHOD:PUBLISH
BEGIN:VEVENT
DTSTAMP:20250621T164215
DTSTART:20250626T130000
DTEND:20250626T143000
SUMMARY:City of Bend Accessibility Advisory Committee Hybrid Meeting
DESCRIPTION:<h2><span style="font-size: 15px;">Hybrid Meeting Notice:</span></h2><p>The <a href="https://www.bendoregon.gov/government/committees/accessibility-advisory-committee#!/" target="_blank" id="City of Bend Accessibility Advisory Committee"><b>City of Bend Accessibility Advisory Committee</b></a> (COBAAC) will conduct its hybrid meetings through Zoom and in person at City Hall, in Council Chambers, 710 NW Wall Street, Bend, OR; on Thursday, June 26, 2025, from 1:00 to 2:30 p.m.</p><p><strong>To Attend by Computer, <a href="https://bendoregon-gov.zoom.us/webinar/register/WN_FKKL0cYiQWan8Z7YxnayAQ" target="_blank">Pre-Register:</a>&nbsp;</strong>You will receive an email confirmation with a personal link with information to connect via computer or phone.</p><ul>    <li><strong>Dial Toll-Free:</strong>&nbsp;1-888-788-0099</li>    <li><strong>Webinar ID:&nbsp;</strong>811 8765 4785</li>    <li><strong>Passcode, if prompted:</strong>&nbsp;262222 (COBAAC)</li></ul><p><strong><a href="https://youtube.com/live/wdLGLVf3pcs?feature=share" target="_blank">COBAAC June 26, 2025, regular hybrid meeting, live at 1:00 p.m.</a></strong></p><p><strong>Technical Difficulties Connecting to this meeting:</strong>&nbsp;Call 541-410-9341</p><p><strong>Written Public Comment and Zoom Attendee Users:</strong></p><p>Public comments are limited to two minutes per person for four minutes. Please submit written comments 24 hours before the meetings, or you can submit additional input about this meeting to the Accessibility and Equity Program at <a href="mailto:accessibility@bendoregon.gov?subject=accessibility@bendoregon.gov" id="accessibility@bendoregon.gov" title="accessibility@bendoregon.gov"><b>accessibility@bendoregon.gov</b></a>.</p><p><strong>For additional information: </strong>Please call the Accessibility and Equity Manager // COBAAC Staff Liaison, Cassandra Kehoe, She/Her/Ella at 541-693-2198 or email<strong> <a href="mailto:&#99;&#107;&#101;&#104;&#111;&#101;&#64;&#98;&#101;&#110;&#100;&#111;&#114;&#101;&#103;&#111;&#110;&#46;&#103;&#111;&#118;">ckehoe@bendoregon.gov</a>.</strong></p><h2><span style="font-size: 15px;">Language Assistance Services &amp; Accommodation Information for People with Disabilities:</span></h2><p>You can obtain this information in alternate formats such as Braille, electronic format, etc. Free language assistance services are also available.&nbsp; Please contact the Accessibility and Equity Program 24 hours in advance of meeting at <a href="mailto:accessibility@bendoregon.gov?subject=accessibility@bendoregon.gov" id="accessibility@bendoregon.gov" title="accessibility@bendoregon.gov"><b><u>accessibility@bendoregon.gov</u></b></a> or call 541-693-2198; Relay Users Dial 7-1-1. Providing, at least, 3 days’ notice prior to the event will help ensure availability.</p><p><strong>Servicios de asistencia lingüística e información sobre alojamiento para personas con discapacidad:</strong></p><p>Puede obtener esta información en formatos alternativos como Braille, formato electrónico, etc. También disponemos de servicios gratuitos de asistencia lingüística. Póngase en contacto con Gestor del proyecto o creador del documento en <a href="mailto:Equity@bendoregon.gov?subject=equity@bendoregon.gov" id="equity@bendoregon.gov" title="equity@bendoregon.gov"><b>equity@bendoregon.gov</b></a> o número de teléfono 541-323-8563. Los usuarios del servicio de retransmisión deben marcar el 7-1-1.</p>
X-ALT-DESC;FMTTYPE=text/html:<h2><span style="font-size: 15px;">Hybrid Meeting Notice:</span></h2><p>The <a href="https://www.bendoregon.gov/government/committees/accessibility-advisory-committee#!/" target="_blank" id="City of Bend Accessibility Advisory Committee"><b>City of Bend Accessibility Advisory Committee</b></a> (COBAAC) will conduct its hybrid meetings through Zoom and in person at City Hall, in Council Chambers, 710 NW Wall Street, Bend, OR; on Thursday, June 26, 2025, from 1:00 to 2:30 p.m.</p><p><strong>To Attend by Computer, <a href="https://bendoregon-gov.zoom.us/webinar/register/WN_FKKL0cYiQWan8Z7YxnayAQ" target="_blank">Pre-Register:</a>&nbsp;</strong>You will receive an email confirmation with a personal link with information to connect via computer or phone.</p><ul>    <li><strong>Dial Toll-Free:</strong>&nbsp;1-888-788-0099</li>    <li><strong>Webinar ID:&nbsp;</strong>811 8765 4785</li>    <li><strong>Passcode, if prompted:</strong>&nbsp;262222 (COBAAC)</li></ul><p><strong><a href="https://youtube.com/live/wdLGLVf3pcs?feature=share" target="_blank">COBAAC June 26, 2025, regular hybrid meeting, live at 1:00 p.m.</a></strong></p><p><strong>Technical Difficulties Connecting to this meeting:</strong>&nbsp;Call 541-410-9341</p><p><strong>Written Public Comment and Zoom Attendee Users:</strong></p><p>Public comments are limited to two minutes per person for four minutes. Please submit written comments 24 hours before the meetings, or you can submit additional input about this meeting to the Accessibility and Equity Program at <a href="mailto:accessibility@bendoregon.gov?subject=accessibility@bendoregon.gov" id="accessibility@bendoregon.gov" title="accessibility@bendoregon.gov"><b>accessibility@bendoregon.gov</b></a>.</p><p><strong>For additional information: </strong>Please call the Accessibility and Equity Manager // COBAAC Staff Liaison, Cassandra Kehoe, She/Her/Ella at 541-693-2198 or email<strong> <a href="mailto:&#99;&#107;&#101;&#104;&#111;&#101;&#64;&#98;&#101;&#110;&#100;&#111;&#114;&#101;&#103;&#111;&#110;&#46;&#103;&#111;&#118;">ckehoe@bendoregon.gov</a>.</strong></p><h2><span style="font-size: 15px;">Language Assistance Services &amp; Accommodation Information for People with Disabilities:</span></h2><p>You can obtain this information in alternate formats such as Braille, electronic format, etc. Free language assistance services are also available.&nbsp; Please contact the Accessibility and Equity Program 24 hours in advance of meeting at <a href="mailto:accessibility@bendoregon.gov?subject=accessibility@bendoregon.gov" id="accessibility@bendoregon.gov" title="accessibility@bendoregon.gov"><b><u>accessibility@bendoregon.gov</u></b></a> or call 541-693-2198; Relay Users Dial 7-1-1. Providing, at least, 3 days’ notice prior to the event will help ensure availability.</p><p><strong>Servicios de asistencia lingüística e información sobre alojamiento para personas con discapacidad:</strong></p><p>Puede obtener esta información en formatos alternativos como Braille, formato electrónico, etc. También disponemos de servicios gratuitos de asistencia lingüística. Póngase en contacto con Gestor del proyecto o creador del documento en <a href="mailto:Equity@bendoregon.gov?subject=equity@bendoregon.gov" id="equity@bendoregon.gov" title="equity@bendoregon.gov"><b>equity@bendoregon.gov</b></a> o número de teléfono 541-323-8563. Los usuarios del servicio de retransmisión deben marcar el 7-1-1.</p>
LOCATION:Council Chambers (City Hall)\, 710 NW Wall St Bend\, Oregon 97703
CLASS:PUBLIC
END:VEVENT
END:VCALENDAR
